BEGIN:VCALENDAR
VERSION:2.0
PRODID:-//Hessische Schachjugend - ECPv6.15.20//NONSGML v1.0//EN
CALSCALE:GREGORIAN
METHOD:PUBLISH
X-WR-CALNAME:Hessische Schachjugend
X-ORIGINAL-URL:https://hessische-schachjugend.de
X-WR-CALDESC:Veranstaltungen für Hessische Schachjugend
REFRESH-INTERVAL;VALUE=DURATION:PT1H
X-Robots-Tag:noindex
X-PUBLISHED-TTL:PT1H
BEGIN:VTIMEZONE
TZID:Europe/Paris
BEGIN:DAYLIGHT
TZOFFSETFROM:+0100
TZOFFSETTO:+0200
TZNAME:CEST
DTSTART:20250330T010000
END:DAYLIGHT
BEGIN:STANDARD
TZOFFSETFROM:+0200
TZOFFSETTO:+0100
TZNAME:CET
DTSTART:20251026T010000
END:STANDARD
BEGIN:DAYLIGHT
TZOFFSETFROM:+0100
TZOFFSETTO:+0200
TZNAME:CEST
DTSTART:20260329T010000
END:DAYLIGHT
BEGIN:STANDARD
TZOFFSETFROM:+0200
TZOFFSETTO:+0100
TZNAME:CET
DTSTART:20261025T010000
END:STANDARD
BEGIN:DAYLIGHT
TZOFFSETFROM:+0100
TZOFFSETTO:+0200
TZNAME:CEST
DTSTART:20270328T010000
END:DAYLIGHT
BEGIN:STANDARD
TZOFFSETFROM:+0200
TZOFFSETTO:+0100
TZNAME:CET
DTSTART:20271031T010000
END:STANDARD
END:VTIMEZONE
BEGIN:VEVENT
DTSTART;TZID=Europe/Paris:20260619T000000
DTEND;TZID=Europe/Paris:20260621T235959
DTSTAMP:20260421T105706
CREATED:20251115T082309Z
LAST-MODIFIED:20260218T220125Z
UID:825156-1781827200-1782086399@hessische-schachjugend.de
SUMMARY:Summer-Showdown 2026
DESCRIPTION:Qualifikationsturnier für die Mitteldeutschen Vereinsmeisterschaften der Altersklassen U12-U16.\nParallel findet ein offenes Turnier für alle U16-Mannschaften statt.
URL:https://hessische-schachjugend.de/event/summer-showdown-2026/
LOCATION:Jugendherberge Wetzlar\, Richard-Schirmann-Straße 3\, Wetzlar\, 35578
CATEGORIES:intern,Mannschaftsmeisterschaften
END:VEVENT
END:VCALENDAR