BEGIN:VCALENDAR
VERSION:2.0
PRODID:-//Hessische Schachjugend - ECPv6.15.20//NONSGML v1.0//EN
CALSCALE:GREGORIAN
METHOD:PUBLISH
X-ORIGINAL-URL:https://hessische-schachjugend.de
X-WR-CALDESC:Veranstaltungen für Hessische Schachjugend
REFRESH-INTERVAL;VALUE=DURATION:PT1H
X-Robots-Tag:noindex
X-PUBLISHED-TTL:PT1H
BEGIN:VTIMEZONE
TZID:Europe/Paris
BEGIN:DAYLIGHT
TZOFFSETFROM:+0100
TZOFFSETTO:+0200
TZNAME:CEST
DTSTART:20250330T010000
END:DAYLIGHT
BEGIN:STANDARD
TZOFFSETFROM:+0200
TZOFFSETTO:+0100
TZNAME:CET
DTSTART:20251026T010000
END:STANDARD
BEGIN:DAYLIGHT
TZOFFSETFROM:+0100
TZOFFSETTO:+0200
TZNAME:CEST
DTSTART:20260329T010000
END:DAYLIGHT
BEGIN:STANDARD
TZOFFSETFROM:+0200
TZOFFSETTO:+0100
TZNAME:CET
DTSTART:20261025T010000
END:STANDARD
BEGIN:DAYLIGHT
TZOFFSETFROM:+0100
TZOFFSETTO:+0200
TZNAME:CEST
DTSTART:20270328T010000
END:DAYLIGHT
BEGIN:STANDARD
TZOFFSETFROM:+0200
TZOFFSETTO:+0100
TZNAME:CET
DTSTART:20271031T010000
END:STANDARD
END:VTIMEZONE
BEGIN:VEVENT
DTSTART;TZID=Europe/Paris:20261113T000000
DTEND;TZID=Europe/Paris:20261115T235959
DTSTAMP:20260421T175611
CREATED:20260307T124658Z
LAST-MODIFIED:20260307T124658Z
UID:829303-1794528000-1794787199@hessische-schachjugend.de
SUMMARY:Kinderschachpatentlehrgang
DESCRIPTION:
URL:https://hessische-schachjugend.de/event/kinderschachpatentlehrgang/
LOCATION:Jugendherberge Augsburg\, Unterer Graben 6\, Augsburg\, Bayern\, 86152\, Germany
CATEGORIES:DSJ
END:VEVENT
BEGIN:VEVENT
DTSTART;TZID=Europe/Paris:20261113T150000
DTEND;TZID=Europe/Paris:20261115T170000
DTSTAMP:20260421T175611
CREATED:20260309T205252Z
LAST-MODIFIED:20260311T204239Z
UID:829322-1794582000-1794762000@hessische-schachjugend.de
SUMMARY:Mädchen-Grand-Prix Hessen
DESCRIPTION:
URL:https://hessische-schachjugend.de/event/maedchen-grand-prix-hessen/
LOCATION:Hessen
CATEGORIES:Mädchenschach
END:VEVENT
BEGIN:VEVENT
DTSTART;TZID=Europe/Paris:20261114T100000
DTEND;TZID=Europe/Paris:20261115T150000
DTSTAMP:20260421T175611
CREATED:20260118T172302Z
LAST-MODIFIED:20260118T172302Z
UID:825759-1794650400-1794754800@hessische-schachjugend.de
SUMMARY:Hessischer Schachkader
DESCRIPTION:
URL:https://hessische-schachjugend.de/event/hessischer-schachkader-7/
LOCATION:Jugendherberge Bad Homburg\, Mühlweg 17\, Bad Homburg vor der Höhe\, 61348\, Germany
END:VEVENT
END:VCALENDAR