BEGIN:VCALENDAR
VERSION:2.0
PRODID:-//Hessische Schachjugend - ECPv6.15.20//NONSGML v1.0//EN
CALSCALE:GREGORIAN
METHOD:PUBLISH
X-WR-CALNAME:Hessische Schachjugend
X-ORIGINAL-URL:https://hessische-schachjugend.de
X-WR-CALDESC:Veranstaltungen für Hessische Schachjugend
REFRESH-INTERVAL;VALUE=DURATION:PT1H
X-Robots-Tag:noindex
X-PUBLISHED-TTL:PT1H
BEGIN:VTIMEZONE
TZID:Europe/Paris
BEGIN:DAYLIGHT
TZOFFSETFROM:+0100
TZOFFSETTO:+0200
TZNAME:CEST
DTSTART:20250330T010000
END:DAYLIGHT
BEGIN:STANDARD
TZOFFSETFROM:+0200
TZOFFSETTO:+0100
TZNAME:CET
DTSTART:20251026T010000
END:STANDARD
BEGIN:DAYLIGHT
TZOFFSETFROM:+0100
TZOFFSETTO:+0200
TZNAME:CEST
DTSTART:20260329T010000
END:DAYLIGHT
BEGIN:STANDARD
TZOFFSETFROM:+0200
TZOFFSETTO:+0100
TZNAME:CET
DTSTART:20261025T010000
END:STANDARD
BEGIN:DAYLIGHT
TZOFFSETFROM:+0100
TZOFFSETTO:+0200
TZNAME:CEST
DTSTART:20270328T010000
END:DAYLIGHT
BEGIN:STANDARD
TZOFFSETFROM:+0200
TZOFFSETTO:+0100
TZNAME:CET
DTSTART:20271031T010000
END:STANDARD
END:VTIMEZONE
BEGIN:VEVENT
DTSTART;TZID=Europe/Paris:20260307T000000
DTEND;TZID=Europe/Paris:20260307T235959
DTSTAMP:20260419T154520
CREATED:20250720T173441Z
LAST-MODIFIED:20250720T173441Z
UID:824580-1772841600-1772927999@hessische-schachjugend.de
SUMMARY:Hessische Frauenblitzeinzelmeisterschaft 2026
DESCRIPTION:Qualifikationsturnier für die Deutsche Frauenblitzeinzelmeisterschaft 2026
URL:https://hessische-schachjugend.de/event/hessische-frauenblitzeinzelmeisterschaft-2026/
LOCATION:Hessen
CATEGORIES:extern
END:VEVENT
BEGIN:VEVENT
DTSTART;TZID=Europe/Paris:20260313T000000
DTEND;TZID=Europe/Paris:20260315T235959
DTSTAMP:20260419T154520
CREATED:20260205T200425Z
LAST-MODIFIED:20260307T093433Z
UID:826018-1773360000-1773619199@hessische-schachjugend.de
SUMMARY:Chaos-Gambit
DESCRIPTION:Ein 4er-Team-Spaßschachturnier für U27
URL:https://hessische-schachjugend.de/event/chaos-gambit/
LOCATION:Jugendherberge Wiesbaden\, Blücherstraße 66\, Wiesbaden\, Hessen\, 65195\, Germany
CATEGORIES:extern
END:VEVENT
BEGIN:VEVENT
DTSTART;TZID=Europe/Paris:20260314T000000
DTEND;TZID=Europe/Paris:20260316T235959
DTSTAMP:20260419T154520
CREATED:20260307T100355Z
LAST-MODIFIED:20260307T100355Z
UID:829272-1773446400-1773705599@hessische-schachjugend.de
SUMMARY:RKST in Mühlheim
DESCRIPTION:
URL:https://hessische-schachjugend.de/event/rkst-in-muehlheim/
LOCATION:Schachzentrum Mülheim Nord\, An den Sportstätten 2\, Mülheim\, Nordrhein-Westfalen\, 45468
CATEGORIES:DSJ,RKST
ORGANIZER;CN="SV M%C3%BClheim  Nord":MAILTO:jugend@svmuehlheim.de
END:VEVENT
BEGIN:VEVENT
DTSTART;TZID=Europe/Paris:20260314T100000
DTEND;TZID=Europe/Paris:20260315T150000
DTSTAMP:20260419T154520
CREATED:20250912T130524Z
LAST-MODIFIED:20250912T130524Z
UID:824778-1773482400-1773586800@hessische-schachjugend.de
SUMMARY:Hessischer Schachkader
DESCRIPTION:
URL:https://hessische-schachjugend.de/event/hessischer-schachkader-4/
LOCATION:Jugendherberge Bad Homburg\, Mühlweg 17\, Bad Homburg vor der Höhe\, 61348\, Germany
END:VEVENT
BEGIN:VEVENT
DTSTART;TZID=Europe/Paris:20260315T093000
DTEND;TZID=Europe/Paris:20260315T160000
DTSTAMP:20260419T154520
CREATED:20251124T075259Z
LAST-MODIFIED:20260209T185520Z
UID:825319-1773567000-1773590400@hessische-schachjugend.de
SUMMARY:Gründaupokal 2026
DESCRIPTION:Am 15.03.2026 findet der 39. Gründaupokal statt. \nAchtung geänderter Spielort! \nAusschreibung
URL:https://hessische-schachjugend.de/event/gruendaupokal-2026/
LOCATION:Gemeinschaftshaus Gründau-Rothenbergen\, Frankfurter Straße 27\, Gründau-Rothenbergen
END:VEVENT
BEGIN:VEVENT
DTSTART;TZID=Europe/Paris:20260319T193000
DTEND;TZID=Europe/Paris:20260319T210000
DTSTAMP:20260419T154520
CREATED:20260307T130527Z
LAST-MODIFIED:20260307T130527Z
UID:829316-1773948600-1773954000@hessische-schachjugend.de
SUMMARY:IT-Forum: KI verantwortungsvoll nutzen
DESCRIPTION:
URL:https://hessische-schachjugend.de/event/it-forum-ki-verantwortungsvoll-nutzen/
LOCATION:online
CATEGORIES:DSJ,Fortbildung
END:VEVENT
BEGIN:VEVENT
DTSTART;TZID=Europe/Paris:20260320T150000
DTEND;TZID=Europe/Paris:20260321T170000
DTSTAMP:20260419T154520
CREATED:20260206T162101Z
LAST-MODIFIED:20260206T162101Z
UID:826022-1774018800-1774112400@hessische-schachjugend.de
SUMMARY:Schulschachpatentlehrgang I
DESCRIPTION:Für Interessierte Lehr- und Betreuungskräfte an Schulen sowie Übungsleiter für Anfängertraining im Verein\, die Schach unterrichten wollen oder es bereits tun.\nRabatt für Schüler:innen und Studierende! \nAnmeldeschluss: 08.03.2025! \nDas SSP I ist explizit für Leiter von Anfängergruppen gedacht.\nDas SSP II für Leiter von fortgeschrittenen Anfängergruppen und Fortgeschrittenengruppen (siehe Kalender). \nAusschreibung SSP I Rotenburg 20.-21.03.2026
URL:https://hessische-schachjugend.de/event/schulschachpatentlehrgang-i/
LOCATION:Jakob-Grimm-Schule Förderstufengebäude\, Bernhard-Faust-Str. 30\, Rotenburg an der Fulda\, Hessen\, 36199
CATEGORIES:extern,Fortbildung
END:VEVENT
BEGIN:VEVENT
DTSTART;TZID=Europe/Paris:20260327T000000
DTEND;TZID=Europe/Paris:20260329T235959
DTSTAMP:20260419T154520
CREATED:20250712T084811Z
LAST-MODIFIED:20251106T222346Z
UID:824547-1774569600-1774828799@hessische-schachjugend.de
SUMMARY:Zentrales Lager 2026 U10
DESCRIPTION:Infos und Ausschreibung findet ihr hier.
URL:https://hessische-schachjugend.de/event/zentrales-lager-2026-u10/
LOCATION:Jugendherberge Bad Homburg\, Mühlweg 17\, Bad Homburg vor der Höhe\, 61348\, Germany
CATEGORIES:Einzelmeisterschaften,intern
END:VEVENT
BEGIN:VEVENT
DTSTART;TZID=Europe/Paris:20260329T000000
DTEND;TZID=Europe/Paris:20260404T235959
DTSTAMP:20260419T154520
CREATED:20250712T085052Z
LAST-MODIFIED:20251106T222321Z
UID:824549-1774742400-1775347199@hessische-schachjugend.de
SUMMARY:Zentrales Lager 2026 U12–U18
DESCRIPTION:Infos und Ausschreibung findet ihr hier.
URL:https://hessische-schachjugend.de/event/zentrales-lager-2026-u12-u18/
LOCATION:Jugendherberge Bad Homburg\, Mühlweg 17\, Bad Homburg vor der Höhe\, 61348\, Germany
CATEGORIES:Einzelmeisterschaften,intern
END:VEVENT
END:VCALENDAR