BEGIN:VCALENDAR
VERSION:2.0
PRODID:-//Hessische Schachjugend - ECPv6.15.20//NONSGML v1.0//EN
CALSCALE:GREGORIAN
METHOD:PUBLISH
X-WR-CALNAME:Hessische Schachjugend
X-ORIGINAL-URL:https://hessische-schachjugend.de
X-WR-CALDESC:Veranstaltungen für Hessische Schachjugend
REFRESH-INTERVAL;VALUE=DURATION:PT1H
X-Robots-Tag:noindex
X-PUBLISHED-TTL:PT1H
BEGIN:VTIMEZONE
TZID:Europe/Paris
BEGIN:DAYLIGHT
TZOFFSETFROM:+0100
TZOFFSETTO:+0200
TZNAME:CEST
DTSTART:20250330T010000
END:DAYLIGHT
BEGIN:STANDARD
TZOFFSETFROM:+0200
TZOFFSETTO:+0100
TZNAME:CET
DTSTART:20251026T010000
END:STANDARD
BEGIN:DAYLIGHT
TZOFFSETFROM:+0100
TZOFFSETTO:+0200
TZNAME:CEST
DTSTART:20260329T010000
END:DAYLIGHT
BEGIN:STANDARD
TZOFFSETFROM:+0200
TZOFFSETTO:+0100
TZNAME:CET
DTSTART:20261025T010000
END:STANDARD
BEGIN:DAYLIGHT
TZOFFSETFROM:+0100
TZOFFSETTO:+0200
TZNAME:CEST
DTSTART:20270328T010000
END:DAYLIGHT
BEGIN:STANDARD
TZOFFSETFROM:+0200
TZOFFSETTO:+0100
TZNAME:CET
DTSTART:20271031T010000
END:STANDARD
END:VTIMEZONE
BEGIN:VEVENT
DTSTART;TZID=Europe/Paris:20260109T180000
DTEND;TZID=Europe/Paris:20260111T170000
DTSTAMP:20260421T123049
CREATED:20251221T172620Z
LAST-MODIFIED:20251221T172620Z
UID:825492-1767981600-1768150800@hessische-schachjugend.de
SUMMARY:Bezirk 2: BJEM 2026
DESCRIPTION:
URL:https://hessische-schachjugend.de/event/bezirk-2-bjem-2026/
LOCATION:Jugendherberge Bad Hersfeld\, Lutherstraße 2\, Bad Hersfeld\, Hessen\, 36251\, Germany
END:VEVENT
BEGIN:VEVENT
DTSTART;TZID=Europe/Paris:20260116T080000
DTEND;TZID=Europe/Paris:20260116T170000
DTSTAMP:20260421T123049
CREATED:20260116T111144Z
LAST-MODIFIED:20260116T111144Z
UID:825599-1768550400-1768582800@hessische-schachjugend.de
SUMMARY:Hessische Schnellschachmannschaftsmeisterschaft U12-U16
DESCRIPTION:Am Samstag\, den 28.02.2026\, findet die hessische Schnellschachmannschaftsmeisterschaft 2026 in den Altersklassen U12\, U14 und U16 statt.\nDer Ort wird noch bekannt gegeben und die Ausschreibung folgt. \nDieses Turnier dient als Qualifikationsturnier zum Summer Showdown\, der wiederum das Qualifikationsturnier für die Mitteldeutsche Vereinsmannschaftsmeisterschaft ist.
URL:https://hessische-schachjugend.de/event/hessische-schnellschachmannschaftsmeisterschaft-u12-u16/
LOCATION:Hessen
END:VEVENT
BEGIN:VEVENT
DTSTART;TZID=Europe/Paris:20260117T093000
DTEND;TZID=Europe/Paris:20260117T170000
DTSTAMP:20260421T123049
CREATED:20250909T075627Z
LAST-MODIFIED:20251121T084047Z
UID:824766-1768642200-1768669200@hessische-schachjugend.de
SUMMARY:Jugend-Grand-Prix Ober-Ramstadt
DESCRIPTION:4. Turnier der Serie im Bezirk 6\, U8 bis U20.
URL:https://hessische-schachjugend.de/event/jugend-grand-prix-gross-zimmern-2/
LOCATION:Stadthalle Ober-Ramstadt\, Entengasse 2\, Ober-Ramstadt
CATEGORIES:extern
END:VEVENT
BEGIN:VEVENT
DTSTART;TZID=Europe/Paris:20260124T000000
DTEND;TZID=Europe/Paris:20260124T235959
DTSTAMP:20260421T123049
CREATED:20250720T173215Z
LAST-MODIFIED:20251106T221934Z
UID:824577-1769212800-1769299199@hessische-schachjugend.de
SUMMARY:Hessische Frauenschnellschacheinzelmeisterschaft 2026
DESCRIPTION:Qualifikationsturnier für die Deutsche Frauenschnellschacheinzelmeisterschaft 2026. \nAusschreibung
URL:https://hessische-schachjugend.de/event/hessische-frauenschnellschacheinzelmeisterschaft-2026/
LOCATION:Ev. Gemeindhaus Klein-Karben\, am Lindenbaum 6\, Karben\, Hessen\, 61184\, Germany
CATEGORIES:extern
END:VEVENT
BEGIN:VEVENT
DTSTART;TZID=Europe/Paris:20260124T000000
DTEND;TZID=Europe/Paris:20260124T235959
DTSTAMP:20260421T123049
CREATED:20250903T092930Z
LAST-MODIFIED:20250903T092930Z
UID:824700-1769212800-1769299199@hessische-schachjugend.de
SUMMARY:2. Turnier 21. Osthessische Schulschachralley 25/26
DESCRIPTION:Anmeldung bis 20.01. \nAusschreibung 21. Osthess. Schulschach-Rallye 2025-26
URL:https://hessische-schachjugend.de/event/2-turnier-21-osthessische-schulschachralley-25-26/
LOCATION:Gesamtschule Obersberg\, Am Obersberg 25\, Bad Hersfeld\, Hessen\, 36251\, Germany
END:VEVENT
END:VCALENDAR