BEGIN:VCALENDAR
VERSION:2.0
PRODID:-//Hessische Schachjugend - ECPv6.15.20//NONSGML v1.0//EN
CALSCALE:GREGORIAN
METHOD:PUBLISH
X-WR-CALNAME:Hessische Schachjugend
X-ORIGINAL-URL:https://hessische-schachjugend.de
X-WR-CALDESC:Veranstaltungen für Hessische Schachjugend
REFRESH-INTERVAL;VALUE=DURATION:PT1H
X-Robots-Tag:noindex
X-PUBLISHED-TTL:PT1H
BEGIN:VTIMEZONE
TZID:Europe/Paris
BEGIN:DAYLIGHT
TZOFFSETFROM:+0100
TZOFFSETTO:+0200
TZNAME:CEST
DTSTART:20240331T010000
END:DAYLIGHT
BEGIN:STANDARD
TZOFFSETFROM:+0200
TZOFFSETTO:+0100
TZNAME:CET
DTSTART:20241027T010000
END:STANDARD
BEGIN:DAYLIGHT
TZOFFSETFROM:+0100
TZOFFSETTO:+0200
TZNAME:CEST
DTSTART:20250330T010000
END:DAYLIGHT
BEGIN:STANDARD
TZOFFSETFROM:+0200
TZOFFSETTO:+0100
TZNAME:CET
DTSTART:20251026T010000
END:STANDARD
BEGIN:DAYLIGHT
TZOFFSETFROM:+0100
TZOFFSETTO:+0200
TZNAME:CEST
DTSTART:20260329T010000
END:DAYLIGHT
BEGIN:STANDARD
TZOFFSETFROM:+0200
TZOFFSETTO:+0100
TZNAME:CET
DTSTART:20261025T010000
END:STANDARD
END:VTIMEZONE
BEGIN:VEVENT
DTSTART;TZID=Europe/Paris:20251101T090000
DTEND;TZID=Europe/Paris:20251102T150000
DTSTAMP:20260421T153617
CREATED:20251012T205214Z
LAST-MODIFIED:20251012T205214Z
UID:824874-1761987600-1762095600@hessische-schachjugend.de
SUMMARY:Starkenburger Jugend-Einzelmeisterschaften U8 bis U12
DESCRIPTION:Nur für Kinder der AKs U8\, U10 und U12 (gerechnet auf 2026) des Bezirk 6. Qualifikation zum ZL 2026.
URL:https://hessische-schachjugend.de/event/starkenburger-jugend-einzelmeisterschaften-u8-bis-u12/
LOCATION:Edward-Flanagan-Schule\, Babenhausen\, Bürgermeister-Willand-Straße 3\, Babenhausen\, Hessen\, 64832\, Deutschland
ORGANIZER;CN="Fallender K%C3%B6nig Babenhausen":MAILTO:Jugend@Fallender-Koenig.de
END:VEVENT
BEGIN:VEVENT
DTSTART;TZID=Europe/Paris:20251106T103000
DTEND;TZID=Europe/Paris:20251106T170000
DTSTAMP:20260421T153617
CREATED:20250922T151527Z
LAST-MODIFIED:20250922T151725Z
UID:824843-1762425000-1762448400@hessische-schachjugend.de
SUMMARY:Hessischer Schulschach-Pokal 2025
DESCRIPTION:Der Hessische Schulschach-Pokal geht in die nächste Runde! Wir laden wie gewohnt in die Kurt-Schumacher-Schule in Karben ein. Wenn ihr Schüler:innen seid (Jahrgang 2008 oder jünger) und drei Freund:innen samt Lehrkraft überzeugen könnt\, kommt vorbei. \nSchulschachpokal 2025 Ausschreibung \nSchulschachpokal 2025 Anmeldung \nTO Schulschach 2024 neu
URL:https://hessische-schachjugend.de/event/hessischer-schulschach-pokal-2025/
LOCATION:Kurt-Schumacher-Schule Karben\, Karbener Weg 38\, Karben\, Hessen\, 61184
END:VEVENT
BEGIN:VEVENT
DTSTART;TZID=Europe/Paris:20251108T100000
DTEND;TZID=Europe/Paris:20251108T150000
DTSTAMP:20260421T153617
CREATED:20251012T205830Z
LAST-MODIFIED:20251012T205830Z
UID:824881-1762596000-1762614000@hessische-schachjugend.de
SUMMARY:1. Groß-Gerauer Schulschach-Pokal 2025
DESCRIPTION:Offen für WK 1\, WK 2\, WK 3 des Schulschachs (bis Jahrgang 2007)
URL:https://hessische-schachjugend.de/event/1-gross-gerauer-schulschach-pokal-2025/
LOCATION:Goetheschule Groß Gerau\, Goethestraße 1\, Groß-Gerau\, Hessen\, 64521\, Germany
END:VEVENT
BEGIN:VEVENT
DTSTART;TZID=Europe/Paris:20251114T000000
DTEND;TZID=Europe/Paris:20251116T235959
DTSTAMP:20260421T153617
CREATED:20241106T225419Z
LAST-MODIFIED:20250708T124937Z
UID:821946-1763078400-1763337599@hessische-schachjugend.de
SUMMARY:Mädchen-Grand-Prix 2025
DESCRIPTION:Hessische Vorrunde
URL:https://hessische-schachjugend.de/event/maedchen-grand-prix-2025/
LOCATION:Jugendherberge Oberreifenberg
END:VEVENT
BEGIN:VEVENT
DTSTART;TZID=Europe/Paris:20251115T100000
DTEND;TZID=Europe/Paris:20251116T170000
DTSTAMP:20260421T153617
CREATED:20251012T210054Z
LAST-MODIFIED:20251012T210054Z
UID:824885-1763200800-1763312400@hessische-schachjugend.de
SUMMARY:Rhein-Taunus Jugend-Einzelmeisterschaften
DESCRIPTION:In den AK U8 bis U12 offen für alle vereinslosen Spieler aus Wiesbaden bzw. dem Rheingau-Taunus Kreis. In den AK U8 bis U18 offen für alle Spieler des Bezirks 8. Qualifiziert für das ZL 2026.
URL:https://hessische-schachjugend.de/event/rhein-taunus-jugend-einzelmeisterschaften-2/
LOCATION:Dr. Herbert Günther Halle\, Panroder Straße 5\, ünstetten-Strinz-Trinitatis\, Hessen\, 65510\, Germany
END:VEVENT
BEGIN:VEVENT
DTSTART;TZID=Europe/Paris:20251122T000000
DTEND;TZID=Europe/Paris:20251122T235959
DTSTAMP:20260421T153617
CREATED:20250202T091938Z
LAST-MODIFIED:20250202T092104Z
UID:822738-1763769600-1763855999@hessische-schachjugend.de
SUMMARY:Deutsche Hochschulblitzschachmeisterschaften
DESCRIPTION:Blitzschachmeisterschaft in Berlin für alle Hochschulangehörigen\, Ausschreibung noch nicht erhalten.
URL:https://hessische-schachjugend.de/event/deutsche-hochschulblitzschachmeisterschaften/
LOCATION:Berlin
CATEGORIES:extern
END:VEVENT
BEGIN:VEVENT
DTSTART;TZID=Europe/Paris:20251123T000000
DTEND;TZID=Europe/Paris:20251123T235959
DTSTAMP:20260421T153617
CREATED:20250202T091817Z
LAST-MODIFIED:20250202T091957Z
UID:822734-1763856000-1763942399@hessische-schachjugend.de
SUMMARY:Deutsche Hochschulschnellschachmeisterschaften
DESCRIPTION:Schnellschachmeisterschaft in Berlin für alle Hochschulangehörigen\, Ausschreibung noch nicht erhalten.
URL:https://hessische-schachjugend.de/event/deutsche-hochschulschnellschachmeisterschaften/
LOCATION:Berlin
END:VEVENT
BEGIN:VEVENT
DTSTART;TZID=Europe/Paris:20251129T000000
DTEND;TZID=Europe/Paris:20251129T235959
DTSTAMP:20260421T153617
CREATED:20250903T092725Z
LAST-MODIFIED:20250903T092725Z
UID:824698-1764374400-1764460799@hessische-schachjugend.de
SUMMARY:1. Turnier 21. Osthessische Schulschachrallye 25/26
DESCRIPTION:Anmeldung bis 25.11. \nAusschreibung 21. Osthess. Schulschach-Rallye 2025-26
URL:https://hessische-schachjugend.de/event/1-turnier-21-osthessische-schulschachrallye-25-26/
LOCATION:Jakob-Grimm-Schule Förderstufengebäude\, Bernhard-Faust-Str. 30\, Rotenburg an der Fulda\, Hessen\, 36199
END:VEVENT
BEGIN:VEVENT
DTSTART;TZID=Europe/Paris:20251129T093000
DTEND;TZID=Europe/Paris:20251129T170000
DTSTAMP:20260421T153617
CREATED:20250909T075530Z
LAST-MODIFIED:20250909T075949Z
UID:824764-1764408600-1764435600@hessische-schachjugend.de
SUMMARY:Jugend-Grand-Prix Babenhausen
DESCRIPTION:3. Turnier der Serie im Bezirk 6\, U8 bis U20.
URL:https://hessische-schachjugend.de/event/jugend-grand-prix-babenhausen-2/
LOCATION:Edward-Flanagan-Schule\, Babenhausen\, Bürgermeister-Willand-Straße 3\, Babenhausen\, Hessen\, 64832\, Deutschland
CATEGORIES:extern
ORGANIZER;CN="Fallender K%C3%B6nig Babenhausen":MAILTO:Jugend@Fallender-Koenig.de
END:VEVENT
END:VCALENDAR