BEGIN:VCALENDAR
VERSION:2.0
PRODID:-//Hessische Schachjugend - ECPv6.15.20//NONSGML v1.0//EN
CALSCALE:GREGORIAN
METHOD:PUBLISH
X-ORIGINAL-URL:https://hessische-schachjugend.de
X-WR-CALDESC:Veranstaltungen für Hessische Schachjugend
REFRESH-INTERVAL;VALUE=DURATION:PT1H
X-Robots-Tag:noindex
X-PUBLISHED-TTL:PT1H
BEGIN:VTIMEZONE
TZID:Europe/Paris
BEGIN:DAYLIGHT
TZOFFSETFROM:+0100
TZOFFSETTO:+0200
TZNAME:CEST
DTSTART:20240331T010000
END:DAYLIGHT
BEGIN:STANDARD
TZOFFSETFROM:+0200
TZOFFSETTO:+0100
TZNAME:CET
DTSTART:20241027T010000
END:STANDARD
BEGIN:DAYLIGHT
TZOFFSETFROM:+0100
TZOFFSETTO:+0200
TZNAME:CEST
DTSTART:20250330T010000
END:DAYLIGHT
BEGIN:STANDARD
TZOFFSETFROM:+0200
TZOFFSETTO:+0100
TZNAME:CET
DTSTART:20251026T010000
END:STANDARD
BEGIN:DAYLIGHT
TZOFFSETFROM:+0100
TZOFFSETTO:+0200
TZNAME:CEST
DTSTART:20260329T010000
END:DAYLIGHT
BEGIN:STANDARD
TZOFFSETFROM:+0200
TZOFFSETTO:+0100
TZNAME:CET
DTSTART:20261025T010000
END:STANDARD
END:VTIMEZONE
BEGIN:VEVENT
DTSTART;TZID=Europe/Paris:20251012T080000
DTEND;TZID=Europe/Paris:20251012T170000
DTSTAMP:20260421T171328
CREATED:20251012T205625Z
LAST-MODIFIED:20251012T205625Z
UID:824876-1760256000-1760288400@hessische-schachjugend.de
SUMMARY:Rhein-Taunus Jugend-Einzelmeisterschaften
DESCRIPTION:In den Altersklassen U8 bis U12 offen für alle vereinslosen Spieler mit Wohnort in Wiesbaden oder im Rheingau-Taunus-Kreis.\nIn den Altersklassen U8 bis U18 offen für alle Spieler des Bezirks 8. Qualifiziert für das ZL 2026.
URL:https://hessische-schachjugend.de/event/rhein-taunus-jugend-einzelmeisterschaften/
LOCATION:Dr. Herbert Günther Halle\, Panroder Straße 5\, ünstetten-Strinz-Trinitatis\, Hessen\, 65510\, Germany
END:VEVENT
BEGIN:VEVENT
DTSTART;TZID=Europe/Paris:20251025T000000
DTEND;TZID=Europe/Paris:20251026T235959
DTSTAMP:20260421T171328
CREATED:20251002T202310Z
LAST-MODIFIED:20251002T202310Z
UID:824859-1761350400-1761523199@hessische-schachjugend.de
SUMMARY:Offene Bezirksjugendeinzelmeisterschaft (Bezirk 4)
DESCRIPTION:Die MVSJ richtet die offene BJEM wie jedes Jahr wieder in Offenbach aus. Schaut gerne alle vorbei 🙂 \nAlle weiteren Informationen findet ihr auf der Seite der MVSJ.
URL:https://hessische-schachjugend.de/event/offene-bezirksjugendeinzelmeisterschaft-bezirk-4/
LOCATION:Mensa der Leibnizschule\, Brandbornstr. 11\, Offenbach\, Hessen\, 63069\, Germany
END:VEVENT
BEGIN:VEVENT
DTSTART;TZID=Europe/Paris:20251025T093000
DTEND;TZID=Europe/Paris:20251025T170000
DTSTAMP:20260421T171328
CREATED:20250909T075419Z
LAST-MODIFIED:20250909T075936Z
UID:824759-1761384600-1761411600@hessische-schachjugend.de
SUMMARY:Jugend-Grand-Prix Breuberg
DESCRIPTION:2. Turnier der Serie im Bezirk 6\, U8 bis U20.
URL:https://hessische-schachjugend.de/event/jugend-grand-prix-breuberg-2/
LOCATION:Hoaschter Treff\, Wald-Amorbacher Str. 2\, Breuberg\, Hessen\, 64747\, Germany
CATEGORIES:extern
ORGANIZER;CN="Turm Breuberg":MAILTO:vorstand23.turmbreuberg+grandprix@gmail.com
END:VEVENT
END:VCALENDAR