BEGIN:VCALENDAR
VERSION:2.0
PRODID:-//Hessische Schachjugend - ECPv6.15.20//NONSGML v1.0//EN
CALSCALE:GREGORIAN
METHOD:PUBLISH
X-ORIGINAL-URL:https://hessische-schachjugend.de
X-WR-CALDESC:Veranstaltungen für Hessische Schachjugend
REFRESH-INTERVAL;VALUE=DURATION:PT1H
X-Robots-Tag:noindex
X-PUBLISHED-TTL:PT1H
BEGIN:VTIMEZONE
TZID:Europe/Paris
BEGIN:DAYLIGHT
TZOFFSETFROM:+0100
TZOFFSETTO:+0200
TZNAME:CEST
DTSTART:20240331T010000
END:DAYLIGHT
BEGIN:STANDARD
TZOFFSETFROM:+0200
TZOFFSETTO:+0100
TZNAME:CET
DTSTART:20241027T010000
END:STANDARD
BEGIN:DAYLIGHT
TZOFFSETFROM:+0100
TZOFFSETTO:+0200
TZNAME:CEST
DTSTART:20250330T010000
END:DAYLIGHT
BEGIN:STANDARD
TZOFFSETFROM:+0200
TZOFFSETTO:+0100
TZNAME:CET
DTSTART:20251026T010000
END:STANDARD
BEGIN:DAYLIGHT
TZOFFSETFROM:+0100
TZOFFSETTO:+0200
TZNAME:CEST
DTSTART:20260329T010000
END:DAYLIGHT
BEGIN:STANDARD
TZOFFSETFROM:+0200
TZOFFSETTO:+0100
TZNAME:CET
DTSTART:20261025T010000
END:STANDARD
END:VTIMEZONE
BEGIN:VEVENT
DTSTART;TZID=Europe/Paris:20250607T093000
DTEND;TZID=Europe/Paris:20250609T170000
DTSTAMP:20260421T225622
CREATED:20250201T222147Z
LAST-MODIFIED:20250201T222147Z
UID:822726-1749288600-1749488400@hessische-schachjugend.de
SUMMARY:20. Pfingst-Jugendopen
DESCRIPTION:Open offen für alle der Altersklasse U25.\nAlle weiteren Informationen finden sich in der Ausschreibung.
URL:https://hessische-schachjugend.de/event/20-pfingst-jugendopen/
LOCATION:Bürgerhaus Allmendfeld\, Raiffeisenstr.1\, Gernsheim-Allmendfeld\, Hessen\, 64579\, Germany
END:VEVENT
BEGIN:VEVENT
DTSTART;TZID=Europe/Paris:20250627T000000
DTEND;TZID=Europe/Paris:20250629T235959
DTSTAMP:20260421T225622
CREATED:20241106T225035Z
LAST-MODIFIED:20250601T121951Z
UID:821941-1750982400-1751241599@hessische-schachjugend.de
SUMMARY:Summer Showdown 2025
DESCRIPTION:Qualifikationsturniere in den Altersklassen U12-U16 zu den Deutschen Jugendvereinsmeisterschaften
URL:https://hessische-schachjugend.de/event/summer-showdown-2025/
LOCATION:Jugendherberge Wetzlar\, Richard-Schirmann-Straße 3\, Wetzlar\, 35578
END:VEVENT
BEGIN:VEVENT
DTSTART;TZID=Europe/Paris:20250628T090000
DTEND;TZID=Europe/Paris:20250628T180000
DTSTAMP:20260421T225622
CREATED:20250601T121909Z
LAST-MODIFIED:20250601T121909Z
UID:823907-1751101200-1751133600@hessische-schachjugend.de
SUMMARY:Youth Classic
DESCRIPTION:7 rundiges Schnellschachopen für Kinder und Jugendliche U18\nAlle Informationen und Anmeldung auf der Webseite.
URL:https://hessische-schachjugend.de/event/youth-classic-2/
LOCATION:Hessen
END:VEVENT
END:VCALENDAR