BEGIN:VCALENDAR
VERSION:2.0
PRODID:-//Hessische Schachjugend - ECPv6.15.20//NONSGML v1.0//EN
CALSCALE:GREGORIAN
METHOD:PUBLISH
X-WR-CALNAME:Hessische Schachjugend
X-ORIGINAL-URL:https://hessische-schachjugend.de
X-WR-CALDESC:Veranstaltungen für Hessische Schachjugend
REFRESH-INTERVAL;VALUE=DURATION:PT1H
X-Robots-Tag:noindex
X-PUBLISHED-TTL:PT1H
BEGIN:VTIMEZONE
TZID:Europe/Paris
BEGIN:DAYLIGHT
TZOFFSETFROM:+0100
TZOFFSETTO:+0200
TZNAME:CEST
DTSTART:20240331T010000
END:DAYLIGHT
BEGIN:STANDARD
TZOFFSETFROM:+0200
TZOFFSETTO:+0100
TZNAME:CET
DTSTART:20241027T010000
END:STANDARD
BEGIN:DAYLIGHT
TZOFFSETFROM:+0100
TZOFFSETTO:+0200
TZNAME:CEST
DTSTART:20250330T010000
END:DAYLIGHT
BEGIN:STANDARD
TZOFFSETFROM:+0200
TZOFFSETTO:+0100
TZNAME:CET
DTSTART:20251026T010000
END:STANDARD
BEGIN:DAYLIGHT
TZOFFSETFROM:+0100
TZOFFSETTO:+0200
TZNAME:CEST
DTSTART:20260329T010000
END:DAYLIGHT
BEGIN:STANDARD
TZOFFSETFROM:+0200
TZOFFSETTO:+0100
TZNAME:CET
DTSTART:20261025T010000
END:STANDARD
END:VTIMEZONE
BEGIN:VEVENT
DTSTART;TZID=Europe/Paris:20250517T000000
DTEND;TZID=Europe/Paris:20250518T235959
DTSTAMP:20260422T003642
CREATED:20241202T210928Z
LAST-MODIFIED:20241202T210928Z
UID:822317-1747440000-1747612799@hessische-schachjugend.de
SUMMARY:Hessischer Kaderlehrgang
DESCRIPTION:
URL:https://hessische-schachjugend.de/event/hessischer-kaderlehrgang/
LOCATION:Jugendherberge Wetzlar\, Richard-Schirmann-Straße 3\, Wetzlar\, 35578
END:VEVENT
BEGIN:VEVENT
DTSTART;TZID=Europe/Paris:20250524T093000
DTEND;TZID=Europe/Paris:20250524T180000
DTSTAMP:20260422T003642
CREATED:20250215T115213Z
LAST-MODIFIED:20250215T121308Z
UID:822788-1748079000-1748109600@hessische-schachjugend.de
SUMMARY:19. Ketscher Jugendopen 2025
DESCRIPTION:Jugendopen bis U25 \nVoranmeldung bis zum 10.05.2025 an jugend-grand-prix-2025@schachclub-ketsch.de\nMaximale Teilnehmendenzahl: 200 \nAusschreibung \n 
URL:https://hessische-schachjugend.de/event/19-ketscher-jugendopen-2025/
LOCATION:Rheinhalle Ketsch\, Rheinhalle\, Ketsch\, Hessen\, 68775
END:VEVENT
END:VCALENDAR