BEGIN:VCALENDAR
VERSION:2.0
PRODID:-//Hessische Schachjugend - ECPv6.15.20//NONSGML v1.0//EN
CALSCALE:GREGORIAN
METHOD:PUBLISH
X-ORIGINAL-URL:https://hessische-schachjugend.de
X-WR-CALDESC:Veranstaltungen für Hessische Schachjugend
REFRESH-INTERVAL;VALUE=DURATION:PT1H
X-Robots-Tag:noindex
X-PUBLISHED-TTL:PT1H
BEGIN:VTIMEZONE
TZID:Europe/Paris
BEGIN:DAYLIGHT
TZOFFSETFROM:+0100
TZOFFSETTO:+0200
TZNAME:CEST
DTSTART:20240331T010000
END:DAYLIGHT
BEGIN:STANDARD
TZOFFSETFROM:+0200
TZOFFSETTO:+0100
TZNAME:CET
DTSTART:20241027T010000
END:STANDARD
BEGIN:DAYLIGHT
TZOFFSETFROM:+0100
TZOFFSETTO:+0200
TZNAME:CEST
DTSTART:20250330T010000
END:DAYLIGHT
BEGIN:STANDARD
TZOFFSETFROM:+0200
TZOFFSETTO:+0100
TZNAME:CET
DTSTART:20251026T010000
END:STANDARD
BEGIN:DAYLIGHT
TZOFFSETFROM:+0100
TZOFFSETTO:+0200
TZNAME:CEST
DTSTART:20260329T010000
END:DAYLIGHT
BEGIN:STANDARD
TZOFFSETFROM:+0200
TZOFFSETTO:+0100
TZNAME:CET
DTSTART:20261025T010000
END:STANDARD
END:VTIMEZONE
BEGIN:VEVENT
DTSTART;TZID=Europe/Paris:20250228T000000
DTEND;TZID=Europe/Paris:20250302T235959
DTSTAMP:20260422T035740
CREATED:20241015T095704Z
LAST-MODIFIED:20241015T095704Z
UID:821878-1740700800-1740959999@hessische-schachjugend.de
SUMMARY:Girls Camp 2025
DESCRIPTION:Ausschreibung GirlsCamp 2025 \nAnmeldeformular GirlsCamp 2025 \nvorläufiger Zeitplan GirlsCamp 2025
URL:https://hessische-schachjugend.de/event/girls-camp-2025/
LOCATION:Jugendherberge Biedenkopf\, Am Freibad 15\, Biedenkopf\, Hessen\, 35216\, Germany
END:VEVENT
BEGIN:VEVENT
DTSTART;TZID=Europe/Paris:20250301T093000
DTEND;TZID=Europe/Paris:20250301T180000
DTSTAMP:20260422T035740
CREATED:20250122T114927Z
LAST-MODIFIED:20250122T114927Z
UID:822490-1740821400-1740852000@hessische-schachjugend.de
SUMMARY:Bad Nauheimer Faschingsturnier 2025
DESCRIPTION:Kinderschnellschachturnier für die Altersklassen U8(w)-U12(w)\nAnmeldeschluss 26.02.2025\nGenauere Informationen siehe Ausschreibung
URL:https://hessische-schachjugend.de/event/bad-nauheimer-faschingsturnier-2025/
LOCATION:Mehrzweckhalle Bad Nauheim\, An der Faulweide 1\, Bad Nauheim Schwalheim\, Hessen\, 61231\, Germany
ORGANIZER;CN="SC Bad Nauheim":MAILTO:schachjugend@t-online.de
END:VEVENT
BEGIN:VEVENT
DTSTART;TZID=Europe/Paris:20250315T000000
DTEND;TZID=Europe/Paris:20250315T235959
DTSTAMP:20260422T035740
CREATED:20241106T224609Z
LAST-MODIFIED:20241122T161522Z
UID:821937-1741996800-1742083199@hessische-schachjugend.de
SUMMARY:Hessische Schnellschachmannschaftsmeisterschaften
DESCRIPTION:Qualifikationsturniere in den Altersklassen U12-U16 zu den Hessischen Mannschaftsmeisterschaften (Summer Showdown).
URL:https://hessische-schachjugend.de/event/hessische-schnellschachmannschaftsmeisterschaften/
LOCATION:Bad Homburg\, Vereinshaus Gonzenheim\, Am Kitzenhof 4\, Bad Homburg\, 61352
CATEGORIES:intern,Mannschaftsmeisterschaften
END:VEVENT
BEGIN:VEVENT
DTSTART;TZID=Europe/Paris:20250315T100000
DTEND;TZID=Europe/Paris:20250316T150000
DTSTAMP:20260422T035740
CREATED:20241202T213848Z
LAST-MODIFIED:20250218T194922Z
UID:822319-1742032800-1742137200@hessische-schachjugend.de
SUMMARY:Hessischer Kaderlehrgang - Neuer Termin!
DESCRIPTION:Dieser Kadertermin ersetzt den ausgefallenen Termin vom 1. bis 2. März 2025.
URL:https://hessische-schachjugend.de/event/hessischer-kader-4/
LOCATION:Jugendherberge Bad Homburg\, Mühlweg 17\, Bad Homburg vor der Höhe\, 61348\, Germany
END:VEVENT
BEGIN:VEVENT
DTSTART;TZID=Europe/Paris:20250322T090000
DTEND;TZID=Europe/Paris:20250322T170000
DTSTAMP:20260422T035740
CREATED:20241218T144756Z
LAST-MODIFIED:20241218T144906Z
UID:822374-1742634000-1742662800@hessische-schachjugend.de
SUMMARY:14. Biber Jugend Cup
DESCRIPTION:Sieben Runden Schweizer System in den AKs U8\, U10\, U12\, U14\, U25. Für weitere Details siehe Ausschreibung: \n14-Biber-Jugend-Cup_de2
URL:https://hessische-schachjugend.de/event/14-biber-jugend-cup/
LOCATION:Böllingertalhalle\, Bibersteige\, Heilbronn-Biberach\, Baden-Württemberg\, 74078\, Germany
END:VEVENT
BEGIN:VEVENT
DTSTART;TZID=Europe/Paris:20250323T000000
DTEND;TZID=Europe/Paris:20250323T235959
DTSTAMP:20260422T035740
CREATED:20240418T110806Z
LAST-MODIFIED:20250123T112503Z
UID:821245-1742688000-1742774399@hessische-schachjugend.de
SUMMARY:Gründaupokal
DESCRIPTION:Blitzturnier für Jugendliche und Schüler\, Details s. Ausschreibung auf der Vereinsseite.
URL:https://hessische-schachjugend.de/event/gruendaupokal/
LOCATION:Hessen
END:VEVENT
END:VCALENDAR