BEGIN:VCALENDAR
VERSION:2.0
PRODID:-//Hessische Schachjugend - ECPv6.15.20//NONSGML v1.0//EN
CALSCALE:GREGORIAN
METHOD:PUBLISH
X-ORIGINAL-URL:https://hessische-schachjugend.de
X-WR-CALDESC:Veranstaltungen für Hessische Schachjugend
REFRESH-INTERVAL;VALUE=DURATION:PT1H
X-Robots-Tag:noindex
X-PUBLISHED-TTL:PT1H
BEGIN:VTIMEZONE
TZID:Europe/Paris
BEGIN:DAYLIGHT
TZOFFSETFROM:+0100
TZOFFSETTO:+0200
TZNAME:CEST
DTSTART:20240331T010000
END:DAYLIGHT
BEGIN:STANDARD
TZOFFSETFROM:+0200
TZOFFSETTO:+0100
TZNAME:CET
DTSTART:20241027T010000
END:STANDARD
BEGIN:DAYLIGHT
TZOFFSETFROM:+0100
TZOFFSETTO:+0200
TZNAME:CEST
DTSTART:20250330T010000
END:DAYLIGHT
BEGIN:STANDARD
TZOFFSETFROM:+0200
TZOFFSETTO:+0100
TZNAME:CET
DTSTART:20251026T010000
END:STANDARD
BEGIN:DAYLIGHT
TZOFFSETFROM:+0100
TZOFFSETTO:+0200
TZNAME:CEST
DTSTART:20260329T010000
END:DAYLIGHT
BEGIN:STANDARD
TZOFFSETFROM:+0200
TZOFFSETTO:+0100
TZNAME:CET
DTSTART:20261025T010000
END:STANDARD
END:VTIMEZONE
BEGIN:VEVENT
DTSTART;TZID=Europe/Paris:20250201T000000
DTEND;TZID=Europe/Paris:20250201T235959
DTSTAMP:20260422T054229
CREATED:20241017T173621Z
LAST-MODIFIED:20241017T173744Z
UID:821901-1738368000-1738454399@hessische-schachjugend.de
SUMMARY:Jugend-WerkStadt-Open in Limburg
DESCRIPTION:Ausschreibung folgt.
URL:https://hessische-schachjugend.de/event/jugend-werkstadt-open-in-limburg/
LOCATION:Hessen
END:VEVENT
BEGIN:VEVENT
DTSTART;TZID=Europe/Paris:20250202T140000
DTEND;TZID=Europe/Paris:20250202T170000
DTSTAMP:20260422T054229
CREATED:20241106T224215Z
LAST-MODIFIED:20250105T120356Z
UID:821935-1738504800-1738515600@hessische-schachjugend.de
SUMMARY:Jugendversammlung 2025
DESCRIPTION:Ort: Marburg\nFür nähere Infos\, siehe Einladung und Beitrag
URL:https://hessische-schachjugend.de/event/jugendversammlung-2025/
LOCATION:Hessen
END:VEVENT
BEGIN:VEVENT
DTSTART;TZID=Europe/Paris:20250222T000000
DTEND;TZID=Europe/Paris:20250222T235959
DTSTAMP:20260422T054229
CREATED:20241001T194928Z
LAST-MODIFIED:20241001T194928Z
UID:821846-1740182400-1740268799@hessische-schachjugend.de
SUMMARY:3. Turnier der Osthessischen Schulschachrallye
DESCRIPTION:Turnier für alle Schülerinnen und Schüler\, sowie für Auszubildende\nNähere Infos in der Ausschreibung
URL:https://hessische-schachjugend.de/event/3-turnier-der-osthessischen-schulschachrallye/
LOCATION:Bürgerhaus Wüstensachsen\, Rhönstraße 18\, Ehrenberg- Wüstensachsen\, Hessen\, 36115\, Germany
CATEGORIES:extern
END:VEVENT
BEGIN:VEVENT
DTSTART;TZID=Europe/Paris:20250228T000000
DTEND;TZID=Europe/Paris:20250302T235959
DTSTAMP:20260422T054229
CREATED:20241015T095704Z
LAST-MODIFIED:20241015T095704Z
UID:821878-1740700800-1740959999@hessische-schachjugend.de
SUMMARY:Girls Camp 2025
DESCRIPTION:Ausschreibung GirlsCamp 2025 \nAnmeldeformular GirlsCamp 2025 \nvorläufiger Zeitplan GirlsCamp 2025
URL:https://hessische-schachjugend.de/event/girls-camp-2025/
LOCATION:Jugendherberge Biedenkopf\, Am Freibad 15\, Biedenkopf\, Hessen\, 35216\, Germany
END:VEVENT
END:VCALENDAR