BEGIN:VCALENDAR
VERSION:2.0
PRODID:-//Hessische Schachjugend - ECPv6.15.20//NONSGML v1.0//EN
CALSCALE:GREGORIAN
METHOD:PUBLISH
X-ORIGINAL-URL:https://hessische-schachjugend.de
X-WR-CALDESC:Veranstaltungen für Hessische Schachjugend
REFRESH-INTERVAL;VALUE=DURATION:PT1H
X-Robots-Tag:noindex
X-PUBLISHED-TTL:PT1H
BEGIN:VTIMEZONE
TZID:Europe/Paris
BEGIN:DAYLIGHT
TZOFFSETFROM:+0100
TZOFFSETTO:+0200
TZNAME:CEST
DTSTART:20240331T010000
END:DAYLIGHT
BEGIN:STANDARD
TZOFFSETFROM:+0200
TZOFFSETTO:+0100
TZNAME:CET
DTSTART:20241027T010000
END:STANDARD
BEGIN:DAYLIGHT
TZOFFSETFROM:+0100
TZOFFSETTO:+0200
TZNAME:CEST
DTSTART:20250330T010000
END:DAYLIGHT
BEGIN:STANDARD
TZOFFSETFROM:+0200
TZOFFSETTO:+0100
TZNAME:CET
DTSTART:20251026T010000
END:STANDARD
BEGIN:DAYLIGHT
TZOFFSETFROM:+0100
TZOFFSETTO:+0200
TZNAME:CEST
DTSTART:20260329T010000
END:DAYLIGHT
BEGIN:STANDARD
TZOFFSETFROM:+0200
TZOFFSETTO:+0100
TZNAME:CET
DTSTART:20261025T010000
END:STANDARD
END:VTIMEZONE
BEGIN:VEVENT
DTSTART;TZID=Europe/Paris:20250101T000000
DTEND;TZID=Europe/Paris:20250106T235959
DTSTAMP:20260422T071932
CREATED:20240818T144841Z
LAST-MODIFIED:20240818T150340Z
UID:821662-1735689600-1736207999@hessische-schachjugend.de
SUMMARY:Hessischer Kader Turnierbetreuung
DESCRIPTION:
URL:https://hessische-schachjugend.de/event/kader-turnierbetreuung/
LOCATION:Staufer Open – Schwäbisch Gmünd
END:VEVENT
BEGIN:VEVENT
DTSTART;TZID=Europe/Paris:20250118T100000
DTEND;TZID=Europe/Paris:20250118T180000
DTSTAMP:20260422T071932
CREATED:20241119T175601Z
LAST-MODIFIED:20241119T175648Z
UID:822250-1737194400-1737223200@hessische-schachjugend.de
SUMMARY:Offene Hessische Hochschulschnellschachmeisterschaft WiSe 2024/25
DESCRIPTION:Alle Infos im dazugehörigen Beitrag
URL:https://hessische-schachjugend.de/event/offene-hessische-hochschulschnellschachmeisterschaft-wise-2024-25/
LOCATION:THM\, Campus Friedberg\, Wilhelm-Leuschner-Straße 13\, Friedberg\, Hessen\, 61169\, Germany
ORGANIZER;CN="Fabian Czappa":MAILTO:tlfe@hessische-schachjugend.de
END:VEVENT
BEGIN:VEVENT
DTSTART;TZID=Europe/Paris:20250124T000000
DTEND;TZID=Europe/Paris:20250126T235959
DTSTAMP:20260422T071932
CREATED:20241106T224024Z
LAST-MODIFIED:20241112T223936Z
UID:821932-1737676800-1737935999@hessische-schachjugend.de
SUMMARY:U20-Mannschaftsmeisterschaften
DESCRIPTION:Ausschreibung & vorläufige Teilnehmerliste
URL:https://hessische-schachjugend.de/event/u20-mannschaftsmeisterschaften/
LOCATION:Jugendherberge Wiesbaden\, Blücherstraße 66\, Wiesbaden\, Hessen\, 65195\, Germany
END:VEVENT
BEGIN:VEVENT
DTSTART;TZID=Europe/Paris:20250125T000000
DTEND;TZID=Europe/Paris:20250125T235959
DTSTAMP:20260422T071932
CREATED:20241001T194622Z
LAST-MODIFIED:20241001T194622Z
UID:821843-1737763200-1737849599@hessische-schachjugend.de
SUMMARY:2. Turnier der Osthessischen Schulschachrallye
DESCRIPTION:Turnier für alle Schülerinnen und Schüler\, sowie Auszubildende\nNähere Infos in der Ausschreibung
URL:https://hessische-schachjugend.de/event/2-turnier-der-osthessischen-schulschachrallye/
LOCATION:Wilhelm-Neuhaus-Schule\, Hainstraße 2\, Bad Hersfeld\, Hessen\, 36251
CATEGORIES:extern
END:VEVENT
BEGIN:VEVENT
DTSTART;TZID=Europe/Paris:20250125T090000
DTEND;TZID=Europe/Paris:20250125T170000
DTSTAMP:20260422T071932
CREATED:20241209T113112Z
LAST-MODIFIED:20241209T184939Z
UID:822333-1737795600-1737824400@hessische-schachjugend.de
SUMMARY:Jugend-Grand-Prix Breuberg
DESCRIPTION:Das vierte und letzte Turnier der Jugend-Grand-Prix Serie 2024/25 des Bezirks 8\, Starkenburg\, findet am 25.01.2025 bei Turm Breuberg statt.
URL:https://hessische-schachjugend.de/event/jugend-grand-prix-breuberg/
LOCATION:Breuberg
END:VEVENT
END:VCALENDAR