BEGIN:VCALENDAR
VERSION:2.0
PRODID:-//Hessische Schachjugend - ECPv6.15.20//NONSGML v1.0//EN
CALSCALE:GREGORIAN
METHOD:PUBLISH
X-WR-CALNAME:Hessische Schachjugend
X-ORIGINAL-URL:https://hessische-schachjugend.de
X-WR-CALDESC:Veranstaltungen für Hessische Schachjugend
REFRESH-INTERVAL;VALUE=DURATION:PT1H
X-Robots-Tag:noindex
X-PUBLISHED-TTL:PT1H
BEGIN:VTIMEZONE
TZID:Europe/Berlin
BEGIN:DAYLIGHT
TZOFFSETFROM:+0100
TZOFFSETTO:+0200
TZNAME:CEST
DTSTART:20230326T010000
END:DAYLIGHT
BEGIN:STANDARD
TZOFFSETFROM:+0200
TZOFFSETTO:+0100
TZNAME:CET
DTSTART:20231029T010000
END:STANDARD
BEGIN:DAYLIGHT
TZOFFSETFROM:+0100
TZOFFSETTO:+0200
TZNAME:CEST
DTSTART:20240331T010000
END:DAYLIGHT
BEGIN:STANDARD
TZOFFSETFROM:+0200
TZOFFSETTO:+0100
TZNAME:CET
DTSTART:20241027T010000
END:STANDARD
BEGIN:DAYLIGHT
TZOFFSETFROM:+0100
TZOFFSETTO:+0200
TZNAME:CEST
DTSTART:20250330T010000
END:DAYLIGHT
BEGIN:STANDARD
TZOFFSETFROM:+0200
TZOFFSETTO:+0100
TZNAME:CET
DTSTART:20251026T010000
END:STANDARD
END:VTIMEZONE
BEGIN:VTIMEZONE
TZID:Europe/Paris
BEGIN:DAYLIGHT
TZOFFSETFROM:+0100
TZOFFSETTO:+0200
TZNAME:CEST
DTSTART:20230326T010000
END:DAYLIGHT
BEGIN:STANDARD
TZOFFSETFROM:+0200
TZOFFSETTO:+0100
TZNAME:CET
DTSTART:20231029T010000
END:STANDARD
BEGIN:DAYLIGHT
TZOFFSETFROM:+0100
TZOFFSETTO:+0200
TZNAME:CEST
DTSTART:20240331T010000
END:DAYLIGHT
BEGIN:STANDARD
TZOFFSETFROM:+0200
TZOFFSETTO:+0100
TZNAME:CET
DTSTART:20241027T010000
END:STANDARD
BEGIN:DAYLIGHT
TZOFFSETFROM:+0100
TZOFFSETTO:+0200
TZNAME:CEST
DTSTART:20250330T010000
END:DAYLIGHT
BEGIN:STANDARD
TZOFFSETFROM:+0200
TZOFFSETTO:+0100
TZNAME:CET
DTSTART:20251026T010000
END:STANDARD
END:VTIMEZONE
BEGIN:VEVENT
DTSTART;TZID=Europe/Berlin:20240614T000000
DTEND;TZID=Europe/Berlin:20240616T235959
DTSTAMP:20260424T164643
CREATED:20240303T185332Z
LAST-MODIFIED:20240410T183430Z
UID:820452-1718323200-1718582399@hessische-schachjugend.de
SUMMARY:Hessische U12- und U20-Mannschaftsmeisterschaften 2024
DESCRIPTION:Ausschreibung und Teilnehmerliste
URL:https://hessische-schachjugend.de/event/hessische-u12-und-u20-mannschaftsmeisterschaften-2024/
LOCATION:Jugendherberge Biedenkopf\, Am Freibad 15\, Biedenkopf\, Hessen\, 35216\, Germany
END:VEVENT
BEGIN:VEVENT
DTSTART;TZID=Europe/Paris:20240622T100000
DTEND;TZID=Europe/Paris:20240623T150000
DTSTAMP:20260424T164643
CREATED:20240430T201521Z
LAST-MODIFIED:20240430T201521Z
UID:821321-1719050400-1719154800@hessische-schachjugend.de
SUMMARY:Hessischer Kader
DESCRIPTION:
URL:https://hessische-schachjugend.de/event/hessischer-kader-2/
LOCATION:Marburg
END:VEVENT
BEGIN:VEVENT
DTSTART;TZID=Europe/Paris:20240629T093000
DTEND;TZID=Europe/Paris:20240629T183000
DTSTAMP:20260424T164643
CREATED:20240320T215801Z
LAST-MODIFIED:20240320T220206Z
UID:821063-1719653400-1719685800@hessische-schachjugend.de
SUMMARY:Youth Classic
DESCRIPTION:Flyer
URL:https://hessische-schachjugend.de/event/youth-classic/
LOCATION:Stadthalle Zeilsheim\, Bechtenwaldstraße 17\, Frankfurt-Zeilsheim
END:VEVENT
END:VCALENDAR