BEGIN:VCALENDAR
VERSION:2.0
PRODID:-//Hessische Schachjugend - ECPv6.15.20//NONSGML v1.0//EN
CALSCALE:GREGORIAN
METHOD:PUBLISH
X-ORIGINAL-URL:https://hessische-schachjugend.de
X-WR-CALDESC:Veranstaltungen für Hessische Schachjugend
REFRESH-INTERVAL;VALUE=DURATION:PT1H
X-Robots-Tag:noindex
X-PUBLISHED-TTL:PT1H
BEGIN:VTIMEZONE
TZID:Europe/Berlin
BEGIN:DAYLIGHT
TZOFFSETFROM:+0100
TZOFFSETTO:+0200
TZNAME:CEST
DTSTART:20230326T010000
END:DAYLIGHT
BEGIN:STANDARD
TZOFFSETFROM:+0200
TZOFFSETTO:+0100
TZNAME:CET
DTSTART:20231029T010000
END:STANDARD
BEGIN:DAYLIGHT
TZOFFSETFROM:+0100
TZOFFSETTO:+0200
TZNAME:CEST
DTSTART:20240331T010000
END:DAYLIGHT
BEGIN:STANDARD
TZOFFSETFROM:+0200
TZOFFSETTO:+0100
TZNAME:CET
DTSTART:20241027T010000
END:STANDARD
BEGIN:DAYLIGHT
TZOFFSETFROM:+0100
TZOFFSETTO:+0200
TZNAME:CEST
DTSTART:20250330T010000
END:DAYLIGHT
BEGIN:STANDARD
TZOFFSETFROM:+0200
TZOFFSETTO:+0100
TZNAME:CET
DTSTART:20251026T010000
END:STANDARD
END:VTIMEZONE
BEGIN:VTIMEZONE
TZID:Europe/Paris
BEGIN:DAYLIGHT
TZOFFSETFROM:+0100
TZOFFSETTO:+0200
TZNAME:CEST
DTSTART:20230326T010000
END:DAYLIGHT
BEGIN:STANDARD
TZOFFSETFROM:+0200
TZOFFSETTO:+0100
TZNAME:CET
DTSTART:20231029T010000
END:STANDARD
BEGIN:DAYLIGHT
TZOFFSETFROM:+0100
TZOFFSETTO:+0200
TZNAME:CEST
DTSTART:20240331T010000
END:DAYLIGHT
BEGIN:STANDARD
TZOFFSETFROM:+0200
TZOFFSETTO:+0100
TZNAME:CET
DTSTART:20241027T010000
END:STANDARD
BEGIN:DAYLIGHT
TZOFFSETFROM:+0100
TZOFFSETTO:+0200
TZNAME:CEST
DTSTART:20250330T010000
END:DAYLIGHT
BEGIN:STANDARD
TZOFFSETFROM:+0200
TZOFFSETTO:+0100
TZNAME:CET
DTSTART:20251026T010000
END:STANDARD
END:VTIMEZONE
BEGIN:VEVENT
DTSTART;TZID=Europe/Berlin:20240504T000000
DTEND;TZID=Europe/Berlin:20240505T235959
DTSTAMP:20260424T182241
CREATED:20240303T184947Z
LAST-MODIFIED:20240410T183339Z
UID:820449-1714780800-1714953599@hessische-schachjugend.de
SUMMARY:Hessische U14-Mannschaftsmeisterschaft 2024
DESCRIPTION:Ausschreibung und Teilnehmerliste
URL:https://hessische-schachjugend.de/event/hessische-u14-mannschaftsmeisterschaft-2024/
LOCATION:Hofheim
END:VEVENT
BEGIN:VEVENT
DTSTART;TZID=Europe/Berlin:20240505T093000
DTEND;TZID=Europe/Berlin:20240505T170000
DTSTAMP:20260424T182241
CREATED:20240303T181049Z
LAST-MODIFIED:20240303T181049Z
UID:820394-1714901400-1714928400@hessische-schachjugend.de
SUMMARY:18. Ketscher Jugend-Open
DESCRIPTION:Ausschreibung
URL:https://hessische-schachjugend.de/event/820394/
LOCATION:Rheinhalle\, 68775 Ketsch
CATEGORIES:extern
END:VEVENT
BEGIN:VEVENT
DTSTART;TZID=Europe/Paris:20240509T000000
DTEND;TZID=Europe/Paris:20240512T235959
DTSTAMP:20260424T182241
CREATED:20240422T121107Z
LAST-MODIFIED:20240422T121107Z
UID:821281-1715212800-1715558399@hessische-schachjugend.de
SUMMARY:Rheinhessisches Jugendopen 2024
DESCRIPTION:Gespielt wird in den Altersklassen U12 und U25.
URL:https://hessische-schachjugend.de/event/rheinhessisches-jugendopen-2024/
LOCATION:Haus der Jugend\, Mitternachtsgasse 8\, Mainz\, 55116\, Germany
END:VEVENT
BEGIN:VEVENT
DTSTART;TZID=Europe/Paris:20240510T180000
DTEND;TZID=Europe/Paris:20240512T190000
DTSTAMP:20260424T182241
CREATED:20240331T074310Z
LAST-MODIFIED:20240331T074438Z
UID:821118-1715364000-1715540400@hessische-schachjugend.de
SUMMARY:Darmstädter Jubiläums-Open
DESCRIPTION:Die Ausschreibung
URL:https://hessische-schachjugend.de/event/darmstaedter-jubilaeums-open/
LOCATION:Bürgermeister-Pohl-Haus\, Darmstadt-Wixhausen\, Im Appensee 26\, Darmstadt\, Hessen\, 64291\, Deutschland
ORGANIZER;CN="Fabian Czappa":MAILTO:tlfe@hessische-schachjugend.de
END:VEVENT
END:VCALENDAR