BEGIN:VCALENDAR
VERSION:2.0
PRODID:-//Hessische Schachjugend - ECPv6.15.20//NONSGML v1.0//EN
CALSCALE:GREGORIAN
METHOD:PUBLISH
X-WR-CALNAME:Hessische Schachjugend
X-ORIGINAL-URL:https://hessische-schachjugend.de
X-WR-CALDESC:Veranstaltungen für Hessische Schachjugend
REFRESH-INTERVAL;VALUE=DURATION:PT1H
X-Robots-Tag:noindex
X-PUBLISHED-TTL:PT1H
BEGIN:VTIMEZONE
TZID:Europe/Paris
BEGIN:DAYLIGHT
TZOFFSETFROM:+0100
TZOFFSETTO:+0200
TZNAME:CEST
DTSTART:20250330T010000
END:DAYLIGHT
BEGIN:STANDARD
TZOFFSETFROM:+0200
TZOFFSETTO:+0100
TZNAME:CET
DTSTART:20251026T010000
END:STANDARD
BEGIN:DAYLIGHT
TZOFFSETFROM:+0100
TZOFFSETTO:+0200
TZNAME:CEST
DTSTART:20260329T010000
END:DAYLIGHT
BEGIN:STANDARD
TZOFFSETFROM:+0200
TZOFFSETTO:+0100
TZNAME:CET
DTSTART:20261025T010000
END:STANDARD
BEGIN:DAYLIGHT
TZOFFSETFROM:+0100
TZOFFSETTO:+0200
TZNAME:CEST
DTSTART:20270328T010000
END:DAYLIGHT
BEGIN:STANDARD
TZOFFSETFROM:+0200
TZOFFSETTO:+0100
TZNAME:CET
DTSTART:20271031T010000
END:STANDARD
END:VTIMEZONE
BEGIN:VEVENT
DTSTART;TZID=Europe/Paris:20260528T000000
DTEND;TZID=Europe/Paris:20260530T235959
DTSTAMP:20260419T170647
CREATED:20260307T103603Z
LAST-MODIFIED:20260307T103603Z
UID:829288-1779926400-1780185599@hessische-schachjugend.de
SUMMARY:Mädchenbetreuerinnen-Ausbildung
DESCRIPTION:Für alle Frauen und Mädchen\, die sich im Training und Betreuung von Spielerinnen engagieren oder engagieren wollen
URL:https://hessische-schachjugend.de/event/maedchenbetreuerinnen-ausbildung/
LOCATION:Sauerlandstern Hotel Willingen\, Kneippweg 1\, Willingen\, Hessen\, 34508\, Germany
CATEGORIES:DSJ,Fortbildung
END:VEVENT
BEGIN:VEVENT
DTSTART;TZID=Europe/Paris:20260530T000000
DTEND;TZID=Europe/Paris:20260531T235959
DTSTAMP:20260419T170647
CREATED:20260307T103945Z
LAST-MODIFIED:20260307T103945Z
UID:829290-1780099200-1780271999@hessische-schachjugend.de
SUMMARY:Schulschachpatentlehrgang
DESCRIPTION:
URL:https://hessische-schachjugend.de/event/schulschachpatentlehrgang/
LOCATION:Integrierte Gesamtschule Landau\, Schneiderstraße 69\, Landau in der Pfalz\, Rheinland-Pfalz\, 76829\, Germany
CATEGORIES:DSJ,Fortbildung
END:VEVENT
BEGIN:VEVENT
DTSTART;TZID=Europe/Paris:20260530T093000
DTEND;TZID=Europe/Paris:20260530T170000
DTSTAMP:20260419T170647
CREATED:20260412T172200Z
LAST-MODIFIED:20260412T172200Z
UID:829624-1780133400-1780160400@hessische-schachjugend.de
SUMMARY:25. Ryszard Dyga Jugend-Open
DESCRIPTION:Anmeldung bis zum 27.05. \nAusschreibung
URL:https://hessische-schachjugend.de/event/25-ryszard-dyga-jugend-open/
LOCATION:Bürgerhaus Marxheim\, Ahornstraße 11\, Hofheim\, 65719
CATEGORIES:extern,Turnier
END:VEVENT
END:VCALENDAR