BEGIN:VCALENDAR
VERSION:2.0
PRODID:-//Hessische Schachjugend - ECPv6.15.20//NONSGML v1.0//EN
CALSCALE:GREGORIAN
METHOD:PUBLISH
X-WR-CALNAME:Hessische Schachjugend
X-ORIGINAL-URL:https://hessische-schachjugend.de
X-WR-CALDESC:Veranstaltungen für Hessische Schachjugend
REFRESH-INTERVAL;VALUE=DURATION:PT1H
X-Robots-Tag:noindex
X-PUBLISHED-TTL:PT1H
BEGIN:VTIMEZONE
TZID:Europe/Paris
BEGIN:DAYLIGHT
TZOFFSETFROM:+0100
TZOFFSETTO:+0200
TZNAME:CEST
DTSTART:20250330T010000
END:DAYLIGHT
BEGIN:STANDARD
TZOFFSETFROM:+0200
TZOFFSETTO:+0100
TZNAME:CET
DTSTART:20251026T010000
END:STANDARD
BEGIN:DAYLIGHT
TZOFFSETFROM:+0100
TZOFFSETTO:+0200
TZNAME:CEST
DTSTART:20260329T010000
END:DAYLIGHT
BEGIN:STANDARD
TZOFFSETFROM:+0200
TZOFFSETTO:+0100
TZNAME:CET
DTSTART:20261025T010000
END:STANDARD
BEGIN:DAYLIGHT
TZOFFSETFROM:+0100
TZOFFSETTO:+0200
TZNAME:CEST
DTSTART:20270328T010000
END:DAYLIGHT
BEGIN:STANDARD
TZOFFSETFROM:+0200
TZOFFSETTO:+0100
TZNAME:CET
DTSTART:20271031T010000
END:STANDARD
END:VTIMEZONE
BEGIN:VEVENT
DTSTART;TZID=Europe/Paris:20260515T150000
DTEND;TZID=Europe/Paris:20260517T200000
DTSTAMP:20260419T170715
CREATED:20260211T215750Z
LAST-MODIFIED:20260211T220005Z
UID:826089-1778857200-1779048000@hessische-schachjugend.de
SUMMARY:Offene Hessische Frauen-Einzelmeisterschaft 2026
DESCRIPTION:Vom 15.-17. Mai (Fr nachmittag bis So nach Himmelfahrt) findet die Hessische Frauen-Einzelmeisterschaft 2026 im klassischen Schach in Ober-Ramstadt (nahe Darmstadt) statt. \nDie Frauen-Meisterschaft findet als 5-Runden-Turnier statt – zeitlich parallel zur gemischten Hessischen Einzel-Meisterschaft\, welche als 7-Runden-Turnier bereits Donnerstag beginnt  (Ausschreibung gemischte HEM).\n\n\n\n\n\n\n\n\nDie Frauen-Meisterschaft wird damit erstmals seit Langem wieder als eigenständiges Turnier ausgetragen. Auch Frauen und Mädchen aus anderen Landesverbänden (oder Ländern) sind herzlich willkommen\, wir freuen uns auf viele Anmeldungen! \nFür die Frauen-Meisterschaft geht es hier zur Ausschreibung und hier zur Anmeldung.
URL:https://hessische-schachjugend.de/event/offene-hessische-frauen-einzelmeisterschaft-2026/
LOCATION:Stadthalle Ober-Ramstadt\, Entengasse 2\, Ober-Ramstadt
CATEGORIES:Frauenschach,HSV,Mädchenschach
END:VEVENT
BEGIN:VEVENT
DTSTART;TZID=Europe/Paris:20260516T100000
DTEND;TZID=Europe/Paris:20260516T180000
DTSTAMP:20260419T170715
CREATED:20260318T212307Z
LAST-MODIFIED:20260318T212307Z
UID:829432-1778925600-1778954400@hessische-schachjugend.de
SUMMARY:Jubiläums-Turnier zum 50. Geburtstag des Homberger Schachclubs
DESCRIPTION:Preisfonds bei 150 Anmeldungen über € 2050\,50\nErster Platz € 1000\,50\nZweiter Platz € 200\,50\nDritter Platz € 100\,50\nsowie viele Sonderpreise (Stadtmeister\, Bezirksmeister\, Jugendmeister\, Alterswertung...)\nAnmeldung
URL:https://hessische-schachjugend.de/event/jubilaeums-turnier-zum-50-geburtstag-des-homberger-schachclubs/
LOCATION:Stadthalle Homberg/Efze\, Ziegenhainer Straße 19A\, Homberg/Efze\, Hessen\, 34576\, Germany
CATEGORIES:extern,Turnier
END:VEVENT
BEGIN:VEVENT
DTSTART;TZID=Europe/Paris:20260516T140000
DTEND;TZID=Europe/Paris:20260516T183000
DTSTAMP:20260419T170715
CREATED:20260315T125941Z
LAST-MODIFIED:20260315T130422Z
UID:829348-1778940000-1778956200@hessische-schachjugend.de
SUMMARY:JGP Bergstraße Turnier 3
DESCRIPTION:https://www.rbbib.de/bezirk10/ausschreibung_2_bergstraesser_jugend-grand-prix_2026.pdf
URL:https://hessische-schachjugend.de/event/jgp-bergstrasse-turnier-3/
LOCATION:Bürgerhaus Mörlenbach\, Schulstraße 1\, Mörlenbach\, Hessen\, 69509\, Germany
CATEGORIES:extern
END:VEVENT
END:VCALENDAR