BEGIN:VCALENDAR
VERSION:2.0
PRODID:-//Hessische Schachjugend - ECPv6.15.20//NONSGML v1.0//EN
CALSCALE:GREGORIAN
METHOD:PUBLISH
X-WR-CALNAME:Hessische Schachjugend
X-ORIGINAL-URL:https://hessische-schachjugend.de
X-WR-CALDESC:Veranstaltungen für Hessische Schachjugend
REFRESH-INTERVAL;VALUE=DURATION:PT1H
X-Robots-Tag:noindex
X-PUBLISHED-TTL:PT1H
BEGIN:VTIMEZONE
TZID:Europe/Paris
BEGIN:DAYLIGHT
TZOFFSETFROM:+0100
TZOFFSETTO:+0200
TZNAME:CEST
DTSTART:20250330T010000
END:DAYLIGHT
BEGIN:STANDARD
TZOFFSETFROM:+0200
TZOFFSETTO:+0100
TZNAME:CET
DTSTART:20251026T010000
END:STANDARD
BEGIN:DAYLIGHT
TZOFFSETFROM:+0100
TZOFFSETTO:+0200
TZNAME:CEST
DTSTART:20260329T010000
END:DAYLIGHT
BEGIN:STANDARD
TZOFFSETFROM:+0200
TZOFFSETTO:+0100
TZNAME:CET
DTSTART:20261025T010000
END:STANDARD
BEGIN:DAYLIGHT
TZOFFSETFROM:+0100
TZOFFSETTO:+0200
TZNAME:CEST
DTSTART:20270328T010000
END:DAYLIGHT
BEGIN:STANDARD
TZOFFSETFROM:+0200
TZOFFSETTO:+0100
TZNAME:CET
DTSTART:20271031T010000
END:STANDARD
END:VTIMEZONE
BEGIN:VEVENT
DTSTART;TZID=Europe/Paris:20260410T000000
DTEND;TZID=Europe/Paris:20260412T235959
DTSTAMP:20260419T153450
CREATED:20260320T111925Z
LAST-MODIFIED:20260320T111925Z
UID:829438-1775779200-1776038399@hessische-schachjugend.de
SUMMARY:Vorrunde Mix-Teampokal U12 2026
DESCRIPTION:Jedes Team besteht aus vier Spieler:innen der Jahrgänge 2014 und jünger. In jeder Runde müssen genau zwei Mädchen und genau zwei Jungen aufgestellt werden. \nGespielt wird Samstag und Sonntag. \nDer Turniersieger qualifiziert sich für das Finalturnier im Juni oder Juli. am 19-21. Juni in Göttingen.  \n2026 Ausschreibung Mix-Teampokal Vorrunde Hessen
URL:https://hessische-schachjugend.de/event/vorrunde-mix-teampokal-u12-2026/
LOCATION:Bad Homburg\, Erlenbachhalle\, Josef-Baumann-Straße 15\, Bad Homburg vor der Höhe\, Hessen\, 61352\, Germany
CATEGORIES:Mannschaftsmeisterschaften
END:VEVENT
END:VCALENDAR