BEGIN:VCALENDAR
VERSION:2.0
PRODID:-//Hessische Schachjugend - ECPv6.15.20//NONSGML v1.0//EN
CALSCALE:GREGORIAN
METHOD:PUBLISH
X-WR-CALNAME:Hessische Schachjugend
X-ORIGINAL-URL:https://hessische-schachjugend.de
X-WR-CALDESC:Veranstaltungen für Hessische Schachjugend
REFRESH-INTERVAL;VALUE=DURATION:PT1H
X-Robots-Tag:noindex
X-PUBLISHED-TTL:PT1H
BEGIN:VTIMEZONE
TZID:Europe/Paris
BEGIN:DAYLIGHT
TZOFFSETFROM:+0100
TZOFFSETTO:+0200
TZNAME:CEST
DTSTART:20250330T010000
END:DAYLIGHT
BEGIN:STANDARD
TZOFFSETFROM:+0200
TZOFFSETTO:+0100
TZNAME:CET
DTSTART:20251026T010000
END:STANDARD
BEGIN:DAYLIGHT
TZOFFSETFROM:+0100
TZOFFSETTO:+0200
TZNAME:CEST
DTSTART:20260329T010000
END:DAYLIGHT
BEGIN:STANDARD
TZOFFSETFROM:+0200
TZOFFSETTO:+0100
TZNAME:CET
DTSTART:20261025T010000
END:STANDARD
BEGIN:DAYLIGHT
TZOFFSETFROM:+0100
TZOFFSETTO:+0200
TZNAME:CEST
DTSTART:20270328T010000
END:DAYLIGHT
BEGIN:STANDARD
TZOFFSETFROM:+0200
TZOFFSETTO:+0100
TZNAME:CET
DTSTART:20271031T010000
END:STANDARD
END:VTIMEZONE
BEGIN:VEVENT
DTSTART;TZID=Europe/Paris:20260313T000000
DTEND;TZID=Europe/Paris:20260315T235959
DTSTAMP:20260419T170722
CREATED:20260205T200425Z
LAST-MODIFIED:20260307T093433Z
UID:826018-1773360000-1773619199@hessische-schachjugend.de
SUMMARY:Chaos-Gambit
DESCRIPTION:Ein 4er-Team-Spaßschachturnier für U27
URL:https://hessische-schachjugend.de/event/chaos-gambit/
LOCATION:Jugendherberge Wiesbaden\, Blücherstraße 66\, Wiesbaden\, Hessen\, 65195\, Germany
CATEGORIES:extern
END:VEVENT
BEGIN:VEVENT
DTSTART;TZID=Europe/Paris:20260314T000000
DTEND;TZID=Europe/Paris:20260316T235959
DTSTAMP:20260419T170722
CREATED:20260307T100355Z
LAST-MODIFIED:20260307T100355Z
UID:829272-1773446400-1773705599@hessische-schachjugend.de
SUMMARY:RKST in Mühlheim
DESCRIPTION:
URL:https://hessische-schachjugend.de/event/rkst-in-muehlheim/
LOCATION:Schachzentrum Mülheim Nord\, An den Sportstätten 2\, Mülheim\, Nordrhein-Westfalen\, 45468
CATEGORIES:DSJ,RKST
ORGANIZER;CN="SV M%C3%BClheim  Nord":MAILTO:jugend@svmuehlheim.de
END:VEVENT
BEGIN:VEVENT
DTSTART;TZID=Europe/Paris:20260314T100000
DTEND;TZID=Europe/Paris:20260315T150000
DTSTAMP:20260419T170722
CREATED:20250912T130524Z
LAST-MODIFIED:20250912T130524Z
UID:824778-1773482400-1773586800@hessische-schachjugend.de
SUMMARY:Hessischer Schachkader
DESCRIPTION:
URL:https://hessische-schachjugend.de/event/hessischer-schachkader-4/
LOCATION:Jugendherberge Bad Homburg\, Mühlweg 17\, Bad Homburg vor der Höhe\, 61348\, Germany
END:VEVENT
END:VCALENDAR