BEGIN:VCALENDAR
VERSION:2.0
PRODID:-//Hessische Schachjugend - ECPv6.15.20//NONSGML v1.0//EN
CALSCALE:GREGORIAN
METHOD:PUBLISH
X-WR-CALNAME:Hessische Schachjugend
X-ORIGINAL-URL:https://hessische-schachjugend.de
X-WR-CALDESC:Veranstaltungen für Hessische Schachjugend
REFRESH-INTERVAL;VALUE=DURATION:PT1H
X-Robots-Tag:noindex
X-PUBLISHED-TTL:PT1H
BEGIN:VTIMEZONE
TZID:Europe/Paris
BEGIN:DAYLIGHT
TZOFFSETFROM:+0100
TZOFFSETTO:+0200
TZNAME:CEST
DTSTART:20240331T010000
END:DAYLIGHT
BEGIN:STANDARD
TZOFFSETFROM:+0200
TZOFFSETTO:+0100
TZNAME:CET
DTSTART:20241027T010000
END:STANDARD
BEGIN:DAYLIGHT
TZOFFSETFROM:+0100
TZOFFSETTO:+0200
TZNAME:CEST
DTSTART:20250330T010000
END:DAYLIGHT
BEGIN:STANDARD
TZOFFSETFROM:+0200
TZOFFSETTO:+0100
TZNAME:CET
DTSTART:20251026T010000
END:STANDARD
BEGIN:DAYLIGHT
TZOFFSETFROM:+0100
TZOFFSETTO:+0200
TZNAME:CEST
DTSTART:20260329T010000
END:DAYLIGHT
BEGIN:STANDARD
TZOFFSETFROM:+0200
TZOFFSETTO:+0100
TZNAME:CET
DTSTART:20261025T010000
END:STANDARD
END:VTIMEZONE
BEGIN:VEVENT
DTSTART;TZID=Europe/Paris:20250927T093000
DTEND;TZID=Europe/Paris:20250927T170000
DTSTAMP:20260421T201452
CREATED:20250909T075152Z
LAST-MODIFIED:20250909T075921Z
UID:824756-1758965400-1758992400@hessische-schachjugend.de
SUMMARY:Jugend-Grand-Prix Darmstadt
DESCRIPTION:1. Turnier der Serie im Bezirk 6\, U8 bis U20. \nAusschreibung_JGP2025_DA
URL:https://hessische-schachjugend.de/event/jugend-grand-prix-darmstadt-2/
LOCATION:Edith-Stein-Schule\, Darmstadt\, Seekatzstraße 18–22\, Darmstadt\, Hessen\, 64285\, Deutschland
CATEGORIES:extern
ORGANIZER;CN="Schachforum Darmstadt":MAILTO:heinerfest-schachpokal@gmx.de
END:VEVENT
END:VCALENDAR