BEGIN:VCALENDAR
VERSION:2.0
PRODID:-//Hessische Schachjugend - ECPv6.15.20//NONSGML v1.0//EN
CALSCALE:GREGORIAN
METHOD:PUBLISH
X-WR-CALNAME:Hessische Schachjugend
X-ORIGINAL-URL:https://hessische-schachjugend.de
X-WR-CALDESC:Veranstaltungen für Hessische Schachjugend
REFRESH-INTERVAL;VALUE=DURATION:PT1H
X-Robots-Tag:noindex
X-PUBLISHED-TTL:PT1H
BEGIN:VTIMEZONE
TZID:Europe/Paris
BEGIN:DAYLIGHT
TZOFFSETFROM:+0100
TZOFFSETTO:+0200
TZNAME:CEST
DTSTART:20230326T010000
END:DAYLIGHT
BEGIN:STANDARD
TZOFFSETFROM:+0200
TZOFFSETTO:+0100
TZNAME:CET
DTSTART:20231029T010000
END:STANDARD
BEGIN:DAYLIGHT
TZOFFSETFROM:+0100
TZOFFSETTO:+0200
TZNAME:CEST
DTSTART:20240331T010000
END:DAYLIGHT
BEGIN:STANDARD
TZOFFSETFROM:+0200
TZOFFSETTO:+0100
TZNAME:CET
DTSTART:20241027T010000
END:STANDARD
BEGIN:DAYLIGHT
TZOFFSETFROM:+0100
TZOFFSETTO:+0200
TZNAME:CEST
DTSTART:20250330T010000
END:DAYLIGHT
BEGIN:STANDARD
TZOFFSETFROM:+0200
TZOFFSETTO:+0100
TZNAME:CET
DTSTART:20251026T010000
END:STANDARD
END:VTIMEZONE
BEGIN:VEVENT
DTSTART;TZID=Europe/Paris:20241130T093000
DTEND;TZID=Europe/Paris:20241130T180000
DTSTAMP:20260422T095921
CREATED:20240827T070612Z
LAST-MODIFIED:20240827T070709Z
UID:821717-1732959000-1732989600@hessische-schachjugend.de
SUMMARY:Jugend-Grand-Prix Babenhausen
DESCRIPTION:Für die Altersklassen U8 bis U20 (ggf. zusammengelegt) richtet der Schachbezirk 6 Starkenburg dieses Jahr wieder eine Schnellschachserie über vier Turniere aus.\nDas dritte Turnier findet in der Edward-Flanagan-Schule in Babenhausen statt. \nAusschreibung Serie
URL:https://hessische-schachjugend.de/event/jugend-grand-prix-babenhausen/
LOCATION:Edward-Flanagan-Schule\, Babenhausen\, Bürgermeister-Willand-Straße 3\, Babenhausen\, Hessen\, 64832\, Deutschland
CATEGORIES:extern
ORGANIZER;CN="Fallender K%C3%B6nig Babenhausen":MAILTO:Jugend@Fallender-Koenig.de
END:VEVENT
END:VCALENDAR