BEGIN:VCALENDAR
VERSION:2.0
PRODID:-//Hessische Schachjugend - ECPv6.15.20//NONSGML v1.0//EN
CALSCALE:GREGORIAN
METHOD:PUBLISH
X-WR-CALNAME:Hessische Schachjugend
X-ORIGINAL-URL:https://hessische-schachjugend.de
X-WR-CALDESC:Veranstaltungen für Hessische Schachjugend
REFRESH-INTERVAL;VALUE=DURATION:PT1H
X-Robots-Tag:noindex
X-PUBLISHED-TTL:PT1H
BEGIN:VTIMEZONE
TZID:Europe/Berlin
BEGIN:DAYLIGHT
TZOFFSETFROM:+0100
TZOFFSETTO:+0200
TZNAME:CEST
DTSTART:20230326T010000
END:DAYLIGHT
BEGIN:STANDARD
TZOFFSETFROM:+0200
TZOFFSETTO:+0100
TZNAME:CET
DTSTART:20231029T010000
END:STANDARD
BEGIN:DAYLIGHT
TZOFFSETFROM:+0100
TZOFFSETTO:+0200
TZNAME:CEST
DTSTART:20240331T010000
END:DAYLIGHT
BEGIN:STANDARD
TZOFFSETFROM:+0200
TZOFFSETTO:+0100
TZNAME:CET
DTSTART:20241027T010000
END:STANDARD
BEGIN:DAYLIGHT
TZOFFSETFROM:+0100
TZOFFSETTO:+0200
TZNAME:CEST
DTSTART:20250330T010000
END:DAYLIGHT
BEGIN:STANDARD
TZOFFSETFROM:+0200
TZOFFSETTO:+0100
TZNAME:CET
DTSTART:20251026T010000
END:STANDARD
END:VTIMEZONE
BEGIN:VTIMEZONE
TZID:Europe/Paris
BEGIN:DAYLIGHT
TZOFFSETFROM:+0100
TZOFFSETTO:+0200
TZNAME:CEST
DTSTART:20230326T010000
END:DAYLIGHT
BEGIN:STANDARD
TZOFFSETFROM:+0200
TZOFFSETTO:+0100
TZNAME:CET
DTSTART:20231029T010000
END:STANDARD
BEGIN:DAYLIGHT
TZOFFSETFROM:+0100
TZOFFSETTO:+0200
TZNAME:CEST
DTSTART:20240331T010000
END:DAYLIGHT
BEGIN:STANDARD
TZOFFSETFROM:+0200
TZOFFSETTO:+0100
TZNAME:CET
DTSTART:20241027T010000
END:STANDARD
BEGIN:DAYLIGHT
TZOFFSETFROM:+0100
TZOFFSETTO:+0200
TZNAME:CEST
DTSTART:20250330T010000
END:DAYLIGHT
BEGIN:STANDARD
TZOFFSETFROM:+0200
TZOFFSETTO:+0100
TZNAME:CET
DTSTART:20251026T010000
END:STANDARD
END:VTIMEZONE
BEGIN:VEVENT
DTSTART;TZID=Europe/Berlin:20241116T000000
DTEND;TZID=Europe/Berlin:20241116T235959
DTSTAMP:20260424T104912
CREATED:20240303T185915Z
LAST-MODIFIED:20241107T092154Z
UID:820467-1731715200-1731801599@hessische-schachjugend.de
SUMMARY:Hessische Blitzmannschaftsmeisterschaften U8-U20 2024
DESCRIPTION:mangels Ausrichter abgesagt!
URL:https://hessische-schachjugend.de/event/hessische-blitzmannschaftsmeisterschaften-u8-u20-2024/
LOCATION:Bayern
END:VEVENT
BEGIN:VEVENT
DTSTART;TZID=Europe/Paris:20241116T000000
DTEND;TZID=Europe/Paris:20241116T235959
DTSTAMP:20260424T104912
CREATED:20241001T191231Z
LAST-MODIFIED:20241001T191315Z
UID:821839-1731715200-1731801599@hessische-schachjugend.de
SUMMARY:1. Turnier der Osthessischen Schulschach-Rallye
DESCRIPTION:Turnier für alle Schülerinnen und Schüler\, sowie Auszubildende\nNähere Infos in der Ausschreibung
URL:https://hessische-schachjugend.de/event/1-turnier-der-osthessischen-schulschach-rallye/
LOCATION:Jakob-Grimm-Schule Förderstufengebäude\, Bernhard-Faust-Str. 30\, Rotenburg an der Fulda\, Hessen\, 36199
CATEGORIES:extern
END:VEVENT
END:VCALENDAR