BEGIN:VCALENDAR
VERSION:2.0
PRODID:-//Hessische Schachjugend - ECPv6.15.20//NONSGML v1.0//EN
CALSCALE:GREGORIAN
METHOD:PUBLISH
X-WR-CALNAME:Hessische Schachjugend
X-ORIGINAL-URL:https://hessische-schachjugend.de
X-WR-CALDESC:Veranstaltungen für Hessische Schachjugend
REFRESH-INTERVAL;VALUE=DURATION:PT1H
X-Robots-Tag:noindex
X-PUBLISHED-TTL:PT1H
BEGIN:VTIMEZONE
TZID:Europe/Paris
BEGIN:DAYLIGHT
TZOFFSETFROM:+0100
TZOFFSETTO:+0200
TZNAME:CEST
DTSTART:20230326T010000
END:DAYLIGHT
BEGIN:STANDARD
TZOFFSETFROM:+0200
TZOFFSETTO:+0100
TZNAME:CET
DTSTART:20231029T010000
END:STANDARD
BEGIN:DAYLIGHT
TZOFFSETFROM:+0100
TZOFFSETTO:+0200
TZNAME:CEST
DTSTART:20240331T010000
END:DAYLIGHT
BEGIN:STANDARD
TZOFFSETFROM:+0200
TZOFFSETTO:+0100
TZNAME:CET
DTSTART:20241027T010000
END:STANDARD
BEGIN:DAYLIGHT
TZOFFSETFROM:+0100
TZOFFSETTO:+0200
TZNAME:CEST
DTSTART:20250330T010000
END:DAYLIGHT
BEGIN:STANDARD
TZOFFSETFROM:+0200
TZOFFSETTO:+0100
TZNAME:CET
DTSTART:20251026T010000
END:STANDARD
END:VTIMEZONE
BEGIN:VEVENT
DTSTART;TZID=Europe/Paris:20241114T103000
DTEND;TZID=Europe/Paris:20241114T170000
DTSTAMP:20260424T103737
CREATED:20240925T181915Z
LAST-MODIFIED:20241107T124245Z
UID:821820-1731580200-1731603600@hessische-schachjugend.de
SUMMARY:Hessischer Schulschachpokal am 14.11.24 in Karben
DESCRIPTION:Liebe Freunde des Schulschachs\, \n  \ndas Highlight der Schulschachsaison\, der Hessische Schulschachpokal findet wieder am 14.11.24 in Karben statt. Wir freuen uns auf eine ähnlich große Teilnehmerzahl wie im letzten Jahr. \nHier gibt es die Infos: \nSchulschachpokal 2024 Ausschreibung \nSchulschachpokal 2024 Anmeldung
URL:https://hessische-schachjugend.de/event/hessischer-schulschachpokal-am-14-11-24-in-karben/
LOCATION:Kurt-Schumacher-Schule Karben\, Karbener Weg 38\, Karben\, Hessen\, 61184
END:VEVENT
END:VCALENDAR