BEGIN:VCALENDAR
VERSION:2.0
PRODID:-//Hessische Schachjugend - ECPv6.15.20//NONSGML v1.0//EN
CALSCALE:GREGORIAN
METHOD:PUBLISH
X-WR-CALNAME:Hessische Schachjugend
X-ORIGINAL-URL:https://hessische-schachjugend.de
X-WR-CALDESC:Veranstaltungen für Hessische Schachjugend
REFRESH-INTERVAL;VALUE=DURATION:PT1H
X-Robots-Tag:noindex
X-PUBLISHED-TTL:PT1H
BEGIN:VTIMEZONE
TZID:Europe/Paris
BEGIN:DAYLIGHT
TZOFFSETFROM:+0100
TZOFFSETTO:+0200
TZNAME:CEST
DTSTART:20230326T010000
END:DAYLIGHT
BEGIN:STANDARD
TZOFFSETFROM:+0200
TZOFFSETTO:+0100
TZNAME:CET
DTSTART:20231029T010000
END:STANDARD
BEGIN:DAYLIGHT
TZOFFSETFROM:+0100
TZOFFSETTO:+0200
TZNAME:CEST
DTSTART:20240331T010000
END:DAYLIGHT
BEGIN:STANDARD
TZOFFSETFROM:+0200
TZOFFSETTO:+0100
TZNAME:CET
DTSTART:20241027T010000
END:STANDARD
BEGIN:DAYLIGHT
TZOFFSETFROM:+0100
TZOFFSETTO:+0200
TZNAME:CEST
DTSTART:20250330T010000
END:DAYLIGHT
BEGIN:STANDARD
TZOFFSETFROM:+0200
TZOFFSETTO:+0100
TZNAME:CET
DTSTART:20251026T010000
END:STANDARD
END:VTIMEZONE
BEGIN:VEVENT
DTSTART;TZID=Europe/Paris:20241024T000000
DTEND;TZID=Europe/Paris:20241027T235959
DTSTAMP:20260424T121026
CREATED:20240430T200811Z
LAST-MODIFIED:20240818T133720Z
UID:821318-1729728000-1730073599@hessische-schachjugend.de
SUMMARY:Hessischer Kader Turnierbetreuung
DESCRIPTION:
URL:https://hessische-schachjugend.de/event/hessischer-kader/
LOCATION:Marburg
END:VEVENT
BEGIN:VEVENT
DTSTART;TZID=Europe/Paris:20241024T000000
DTEND;TZID=Europe/Paris:20241027T235959
DTSTAMP:20260424T121026
CREATED:20240724T123025Z
LAST-MODIFIED:20240724T123025Z
UID:821606-1729728000-1730073599@hessische-schachjugend.de
SUMMARY:2. Marburger Schachtage
DESCRIPTION:Ausschreibung \n 
URL:https://hessische-schachjugend.de/event/2-marburger-schachtage/
LOCATION:Bügerhaus Marbach\, Emil-von-Behring-Str. 51\, Marburg\, Hessen\, 35041\, Deutschland
END:VEVENT
BEGIN:VEVENT
DTSTART;TZID=Europe/Paris:20241026T093000
DTEND;TZID=Europe/Paris:20241026T180000
DTSTAMP:20260424T121026
CREATED:20240827T070330Z
LAST-MODIFIED:20240827T070727Z
UID:821713-1729935000-1729965600@hessische-schachjugend.de
SUMMARY:Jugend-Grand-Prix Groß-Zimmern
DESCRIPTION:Für die Altersklassen U8 bis U20 (ggf. zusammengelegt) richtet der Schachbezirk 6 Starkenburg dieses Jahr wieder eine Schnellschachserie über vier Turniere aus.\nDas zweite Turnier findet im Glöckelchen in Groß-Zimmern statt. \nAusschreibung Serie
URL:https://hessische-schachjugend.de/event/jugend-grand-prix-gross-zimmern/
LOCATION:Das Glöckelchen\, Groß-Zimmern\, Angelstraße 18\, Groß-Zimmern\, Hessen\, 64846\, Deutschland
CATEGORIES:extern
ORGANIZER;CN="SC Gro%C3%9F-Zimmern":MAILTO:vorstand@scgross-zimmern.de
END:VEVENT
END:VCALENDAR