BEGIN:VCALENDAR
VERSION:2.0
PRODID:-//Hessische Schachjugend - ECPv6.15.20//NONSGML v1.0//EN
CALSCALE:GREGORIAN
METHOD:PUBLISH
X-WR-CALNAME:Hessische Schachjugend
X-ORIGINAL-URL:https://hessische-schachjugend.de
X-WR-CALDESC:Veranstaltungen für Hessische Schachjugend
REFRESH-INTERVAL;VALUE=DURATION:PT1H
X-Robots-Tag:noindex
X-PUBLISHED-TTL:PT1H
BEGIN:VTIMEZONE
TZID:Europe/Paris
BEGIN:DAYLIGHT
TZOFFSETFROM:+0100
TZOFFSETTO:+0200
TZNAME:CEST
DTSTART:20230326T010000
END:DAYLIGHT
BEGIN:STANDARD
TZOFFSETFROM:+0200
TZOFFSETTO:+0100
TZNAME:CET
DTSTART:20231029T010000
END:STANDARD
BEGIN:DAYLIGHT
TZOFFSETFROM:+0100
TZOFFSETTO:+0200
TZNAME:CEST
DTSTART:20240331T010000
END:DAYLIGHT
BEGIN:STANDARD
TZOFFSETFROM:+0200
TZOFFSETTO:+0100
TZNAME:CET
DTSTART:20241027T010000
END:STANDARD
BEGIN:DAYLIGHT
TZOFFSETFROM:+0100
TZOFFSETTO:+0200
TZNAME:CEST
DTSTART:20250330T010000
END:DAYLIGHT
BEGIN:STANDARD
TZOFFSETFROM:+0200
TZOFFSETTO:+0100
TZNAME:CET
DTSTART:20251026T010000
END:STANDARD
END:VTIMEZONE
BEGIN:VEVENT
DTSTART;TZID=Europe/Paris:20241003T130000
DTEND;TZID=Europe/Paris:20241006T220000
DTSTAMP:20260424T121017
CREATED:20240709T070147Z
LAST-MODIFIED:20240709T070240Z
UID:821561-1727960400-1728252000@hessische-schachjugend.de
SUMMARY:HEM 2024
DESCRIPTION:Die HSJ richtet die „richtige“ HEM aus. \nIhr findet alle Infos hier:\nhttps://hem.hessische-schachjugend.de/ \nbzw. direkt in der Ausschreibung:\nAusschreibung_HEM_2024
URL:https://hessische-schachjugend.de/event/hem-2024/
LOCATION:Bürgermeister-Pohl-Haus\, Darmstadt-Wixhausen\, Im Appensee 26\, Darmstadt\, Hessen\, 64291\, Deutschland
ORGANIZER;CN="Fabian Czappa":MAILTO:tlfe@hessische-schachjugend.de
END:VEVENT
END:VCALENDAR