BEGIN:VCALENDAR
VERSION:2.0
PRODID:-//Hessische Schachjugend - ECPv6.15.20//NONSGML v1.0//EN
CALSCALE:GREGORIAN
METHOD:PUBLISH
X-WR-CALNAME:Hessische Schachjugend
X-ORIGINAL-URL:https://hessische-schachjugend.de
X-WR-CALDESC:Veranstaltungen für Hessische Schachjugend
REFRESH-INTERVAL;VALUE=DURATION:PT1H
X-Robots-Tag:noindex
X-PUBLISHED-TTL:PT1H
BEGIN:VTIMEZONE
TZID:Europe/Berlin
BEGIN:DAYLIGHT
TZOFFSETFROM:+0100
TZOFFSETTO:+0200
TZNAME:CEST
DTSTART:20220327T010000
END:DAYLIGHT
BEGIN:STANDARD
TZOFFSETFROM:+0200
TZOFFSETTO:+0100
TZNAME:CET
DTSTART:20221030T010000
END:STANDARD
BEGIN:DAYLIGHT
TZOFFSETFROM:+0100
TZOFFSETTO:+0200
TZNAME:CEST
DTSTART:20230326T010000
END:DAYLIGHT
BEGIN:STANDARD
TZOFFSETFROM:+0200
TZOFFSETTO:+0100
TZNAME:CET
DTSTART:20231029T010000
END:STANDARD
BEGIN:DAYLIGHT
TZOFFSETFROM:+0100
TZOFFSETTO:+0200
TZNAME:CEST
DTSTART:20240331T010000
END:DAYLIGHT
BEGIN:STANDARD
TZOFFSETFROM:+0200
TZOFFSETTO:+0100
TZNAME:CET
DTSTART:20241027T010000
END:STANDARD
END:VTIMEZONE
BEGIN:VEVENT
DTSTART;TZID=Europe/Berlin:20231103T173000
DTEND;TZID=Europe/Berlin:20231105T160000
DTSTAMP:20260425T053059
CREATED:20230805T100240Z
LAST-MODIFIED:20230805T100240Z
UID:819833-1699032600-1699200000@hessische-schachjugend.de
SUMMARY:Mädchen Grand Prix 2023
DESCRIPTION:Am 03.–05.11.2023 findet die erste Vorrunde des Mädchen Grand Prix der Deutschen Schachjugend in Hessen statt. Zum Beitrag \nAusschreibung \nAnmeldeformular
URL:https://hessische-schachjugend.de/event/maedchen-grand-prix-2023/
LOCATION:Jugendherberge Oberreifenberg
CATEGORIES:intern
ATTACH;FMTTYPE=image/jpeg:https://hessische-schachjugend.de/wp-content/uploads/2023/08/5f2572e8-1bd8-4335-86a3-060ba8541e11.jpg
END:VEVENT
END:VCALENDAR